BEGIN:VCALENDAR
VERSION:2.0
PRODID:-//Golazo - ECPv6.15.15//NONSGML v1.0//EN
CALSCALE:GREGORIAN
METHOD:PUBLISH
X-WR-CALNAME:Golazo
X-ORIGINAL-URL:https://www.golazo.com
X-WR-CALDESC:Events for Golazo
REFRESH-INTERVAL;VALUE=DURATION:PT1H
X-Robots-Tag:noindex
X-PUBLISHED-TTL:PT1H
BEGIN:VTIMEZONE
TZID:Europe/Brussels
BEGIN:DAYLIGHT
TZOFFSETFROM:+0100
TZOFFSETTO:+0200
TZNAME:CEST
DTSTART:20200329T010000
END:DAYLIGHT
BEGIN:STANDARD
TZOFFSETFROM:+0200
TZOFFSETTO:+0100
TZNAME:CET
DTSTART:20201025T010000
END:STANDARD
BEGIN:DAYLIGHT
TZOFFSETFROM:+0100
TZOFFSETTO:+0200
TZNAME:CEST
DTSTART:20210328T010000
END:DAYLIGHT
BEGIN:STANDARD
TZOFFSETFROM:+0200
TZOFFSETTO:+0100
TZNAME:CET
DTSTART:20211031T010000
END:STANDARD
BEGIN:DAYLIGHT
TZOFFSETFROM:+0100
TZOFFSETTO:+0200
TZNAME:CEST
DTSTART:20220327T010000
END:DAYLIGHT
BEGIN:STANDARD
TZOFFSETFROM:+0200
TZOFFSETTO:+0100
TZNAME:CET
DTSTART:20221030T010000
END:STANDARD
END:VTIMEZONE
BEGIN:VEVENT
DTSTART;VALUE=DATE:20211001
DTEND;VALUE=DATE:20211003
DTSTAMP:20260424T174033
CREATED:20190524T051540Z
LAST-MODIFIED:20211008T065537Z
UID:12826-1633129200-1633215599@www.golazo.com
SUMMARY:Kwaremont Sluitingsprijs Cyclo
DESCRIPTION:
URL:https://www.golazo.com/event/kwaremont-sluitingsprijs-cyclo-2/
LOCATION:Sluitingsprijs Cyclo\, Bavikhove\, Belgium
CATEGORIES:Cycling,Sport,Sports
ATTACH;FMTTYPE=image/jpeg:https://www.golazo.com/wp-content/uploads/2018/11/logo-proximuscyclingchallenge.jpg
END:VEVENT
BEGIN:VEVENT
DTSTART;VALUE=DATE:20211009
DTEND;VALUE=DATE:20211011
DTSTAMP:20260424T174033
CREATED:20190524T095555Z
LAST-MODIFIED:20211008T070103Z
UID:12849-1633820400-1633906799@www.golazo.com
SUMMARY:Ronde van Vlaanderen offroad
DESCRIPTION:
URL:https://www.golazo.com/event/ronde-van-vlaanderen-offroad-2/
LOCATION:Ronde van Vlaanderen Offroad\, Belgium
CATEGORIES:Cycling,Sport,Sports
ATTACH;FMTTYPE=image/jpeg:https://www.golazo.com/wp-content/uploads/2019/10/rvvofroad.jpg
END:VEVENT
BEGIN:VEVENT
DTSTART;VALUE=DATE:20211009
DTEND;VALUE=DATE:20211011
DTSTAMP:20260424T174033
CREATED:20200108T094055Z
LAST-MODIFIED:20211008T070702Z
UID:14256-1633820400-1633906799@www.golazo.com
SUMMARY:S 25 Berlin
DESCRIPTION:
URL:https://www.golazo.com/event/s-25-berlin/
LOCATION:S 25 Berlin\, Berlin\, Germany
CATEGORIES:Running,Sports
ATTACH;FMTTYPE=image/png:https://www.golazo.com/wp-content/uploads/2020/01/S-Berlin-2021.png
END:VEVENT
BEGIN:VEVENT
DTSTART;VALUE=DATE:20211023
DTEND;VALUE=DATE:20211025
DTSTAMP:20260424T174033
CREATED:20191218T085447Z
LAST-MODIFIED:20211008T071427Z
UID:14065-1635030000-1635116399@www.golazo.com
SUMMARY:Alpro Urban Walk Mechelen
DESCRIPTION:
URL:https://www.golazo.com/event/alpro-urban-walk-mechelen/
LOCATION:Urban Walk Mechelen\, Mechelen\, 2800\, Belgium
CATEGORIES:Sports,Walking
ATTACH;FMTTYPE=image/png:https://www.golazo.com/wp-content/uploads/2019/09/logo.png
END:VEVENT
BEGIN:VEVENT
DTSTART;VALUE=DATE:20211029
DTEND;VALUE=DATE:20211031
DTSTAMP:20260424T174033
CREATED:20200108T093702Z
LAST-MODIFIED:20211008T071507Z
UID:14253-1635548400-1635634799@www.golazo.com
SUMMARY:Airport Night Run
DESCRIPTION:
URL:https://www.golazo.com/event/airport-night-run-6/
LOCATION:Airport Night Run\, Berlin\, Germany
CATEGORIES:Running,Sports
ATTACH;FMTTYPE=image/png:https://www.golazo.com/wp-content/uploads/2020/01/AirportNightRun.png
END:VEVENT
END:VCALENDAR