BEGIN:VCALENDAR
VERSION:2.0
PRODID:-//Golazo - ECPv6.15.15//NONSGML v1.0//EN
CALSCALE:GREGORIAN
METHOD:PUBLISH
X-WR-CALNAME:Golazo
X-ORIGINAL-URL:https://www.golazo.com
X-WR-CALDESC:Events for Golazo
REFRESH-INTERVAL;VALUE=DURATION:PT1H
X-Robots-Tag:noindex
X-PUBLISHED-TTL:PT1H
BEGIN:VTIMEZONE
TZID:Europe/Brussels
BEGIN:DAYLIGHT
TZOFFSETFROM:+0100
TZOFFSETTO:+0200
TZNAME:CEST
DTSTART:20190331T010000
END:DAYLIGHT
BEGIN:STANDARD
TZOFFSETFROM:+0200
TZOFFSETTO:+0100
TZNAME:CET
DTSTART:20191027T010000
END:STANDARD
BEGIN:DAYLIGHT
TZOFFSETFROM:+0100
TZOFFSETTO:+0200
TZNAME:CEST
DTSTART:20200329T010000
END:DAYLIGHT
BEGIN:STANDARD
TZOFFSETFROM:+0200
TZOFFSETTO:+0100
TZNAME:CET
DTSTART:20201025T010000
END:STANDARD
BEGIN:DAYLIGHT
TZOFFSETFROM:+0100
TZOFFSETTO:+0200
TZNAME:CEST
DTSTART:20210328T010000
END:DAYLIGHT
BEGIN:STANDARD
TZOFFSETFROM:+0200
TZOFFSETTO:+0100
TZNAME:CET
DTSTART:20211031T010000
END:STANDARD
END:VTIMEZONE
BEGIN:VEVENT
DTSTART;VALUE=DATE:20200823
DTEND;VALUE=DATE:20200825
DTSTAMP:20260425T130153
CREATED:20200108T094633Z
LAST-MODIFIED:20200108T094633Z
UID:14262-1598148000-1598234399@www.golazo.com
SUMMARY:Leipzig Urban Trail
DESCRIPTION:
URL:https://www.golazo.com/event/leipzig-urban-trail/
LOCATION:Leipzig Urban Trail\, Leipzig\, 04103\, Germany
CATEGORIES:Running,Sports
ATTACH;FMTTYPE=image/png:https://www.golazo.com/wp-content/uploads/2020/01/leipzig-ut.png
END:VEVENT
BEGIN:VEVENT
DTSTART;VALUE=DATE:20200830
DTEND;VALUE=DATE:20200901
DTSTAMP:20260425T130153
CREATED:20200108T095317Z
LAST-MODIFIED:20200108T095317Z
UID:14266-1598752800-1598839199@www.golazo.com
SUMMARY:Potsdam Urban Trail
DESCRIPTION:
URL:https://www.golazo.com/event/potsdam-urban-trail/
LOCATION:Potsdam Urban Trail\, Potsdam\, 14401\, Germany
CATEGORIES:Running,Sports
ATTACH;FMTTYPE=image/png:https://www.golazo.com/wp-content/uploads/2020/01/potsdam-ut.png
END:VEVENT
END:VCALENDAR