BEGIN:VCALENDAR
VERSION:2.0
PRODID:-//Golazo - ECPv6.15.15//NONSGML v1.0//EN
CALSCALE:GREGORIAN
METHOD:PUBLISH
X-WR-CALNAME:Golazo
X-ORIGINAL-URL:https://www.golazo.com
X-WR-CALDESC:Events for Golazo
REFRESH-INTERVAL;VALUE=DURATION:PT1H
X-Robots-Tag:noindex
X-PUBLISHED-TTL:PT1H
BEGIN:VTIMEZONE
TZID:Europe/Brussels
BEGIN:DAYLIGHT
TZOFFSETFROM:+0100
TZOFFSETTO:+0200
TZNAME:CEST
DTSTART:20190331T010000
END:DAYLIGHT
BEGIN:STANDARD
TZOFFSETFROM:+0200
TZOFFSETTO:+0100
TZNAME:CET
DTSTART:20191027T010000
END:STANDARD
BEGIN:DAYLIGHT
TZOFFSETFROM:+0100
TZOFFSETTO:+0200
TZNAME:CEST
DTSTART:20200329T010000
END:DAYLIGHT
BEGIN:STANDARD
TZOFFSETFROM:+0200
TZOFFSETTO:+0100
TZNAME:CET
DTSTART:20201025T010000
END:STANDARD
BEGIN:DAYLIGHT
TZOFFSETFROM:+0100
TZOFFSETTO:+0200
TZNAME:CEST
DTSTART:20210328T010000
END:DAYLIGHT
BEGIN:STANDARD
TZOFFSETFROM:+0200
TZOFFSETTO:+0100
TZNAME:CET
DTSTART:20211031T010000
END:STANDARD
END:VTIMEZONE
BEGIN:VEVENT
DTSTART;VALUE=DATE:20200531
DTEND;VALUE=DATE:20200602
DTSTAMP:20260425T153657
CREATED:20191127T083521Z
LAST-MODIFIED:20200131T105102Z
UID:13907-1590890400-1590976799@www.golazo.com
SUMMARY:Tilff - Bastogne - Tilff
DESCRIPTION:
URL:https://www.golazo.com/event/tilff-bastogne-tilff-7/
LOCATION:Tilff-Bastogne-Tilff\, Liège\, Belgium
CATEGORIES:Cycling,Sports
ATTACH;FMTTYPE=image/jpeg:https://www.golazo.com/wp-content/uploads/2018/11/logo-proximuscyclingchallenge.jpg
END:VEVENT
BEGIN:VEVENT
DTSTART;VALUE=DATE:20200601
DTEND;VALUE=DATE:20200603
DTSTAMP:20260425T153657
CREATED:20191220T063122Z
LAST-MODIFIED:20200329T111931Z
UID:14098-1590976800-1591063199@www.golazo.com
SUMMARY:ENGIE Kortrijk Loopt voor Think Pink
DESCRIPTION:
URL:https://www.golazo.com/event/kortrijk-loopt-voor-think-pink-2/
LOCATION:Kortrijk Loopt voor Think-Pink\, Kortrijk\, Belgium
CATEGORIES:Running,Sports
ATTACH;FMTTYPE=image/png:https://www.golazo.com/wp-content/uploads/2019/12/logo.png
END:VEVENT
BEGIN:VEVENT
DTSTART;VALUE=DATE:20200601
DTEND;VALUE=DATE:20200603
DTSTAMP:20260425T153657
CREATED:20191220T063230Z
LAST-MODIFIED:20191220T063230Z
UID:14100-1590976800-1591063199@www.golazo.com
SUMMARY:KeyTrade Bank Urban Trail Hasselt
DESCRIPTION:
URL:https://www.golazo.com/event/keytrade-bank-urban-trail-hasselt/
LOCATION:Hasselt Urban Trail\, Koekerellenpad\, Hasselt\, 3500\, Belgium
CATEGORIES:Running,Sports
ATTACH;FMTTYPE=image/png:https://www.golazo.com/wp-content/uploads/2019/12/logo-mobile.png
END:VEVENT
BEGIN:VEVENT
DTSTART;VALUE=DATE:20200607
DTEND;VALUE=DATE:20200609
DTSTAMP:20260425T153657
CREATED:20191220T063737Z
LAST-MODIFIED:20191220T063737Z
UID:14105-1591495200-1591581599@www.golazo.com
SUMMARY:Euro Shop Elfstedenronde
DESCRIPTION:
URL:https://www.golazo.com/event/euro-shop-elfstedenronde/
LOCATION:Elfstedenronde\, Spoorwegstraat\, Brugge\, 8200\, Belgium
CATEGORIES:Cycling,Sports
ATTACH;FMTTYPE=image/png:https://www.golazo.com/wp-content/uploads/2019/12/elfstedenronde.png
END:VEVENT
BEGIN:VEVENT
DTSTART;VALUE=DATE:20200620
DTEND;VALUE=DATE:20200622
DTSTAMP:20260425T153657
CREATED:20191220T064418Z
LAST-MODIFIED:20191220T064441Z
UID:14115-1592618400-1592704799@www.golazo.com
SUMMARY:Runner's Lab Midzomernachtrun
DESCRIPTION:
URL:https://www.golazo.com/event/runners-lab-midzomernachtrun/
LOCATION:Midzomernachtrun\, Gent\, Belgium
CATEGORIES:Running,Sports
ATTACH;FMTTYPE=image/png:https://www.golazo.com/wp-content/uploads/2019/12/midzomer-image.png
END:VEVENT
BEGIN:VEVENT
DTSTART;VALUE=DATE:20200621
DTEND;VALUE=DATE:20200623
DTSTAMP:20260425T153657
CREATED:20191220T064838Z
LAST-MODIFIED:20191220T064838Z
UID:14120-1592704800-1592791199@www.golazo.com
SUMMARY:Alpro Urban Walk Oostende
DESCRIPTION:
URL:https://www.golazo.com/event/alpro-urban-walk-oostende/
LOCATION:Urban Walk Oostende\, Oostende\, 8400\, Belgium
CATEGORIES:Sports,Walking
ATTACH;FMTTYPE=image/png:https://www.golazo.com/wp-content/uploads/2019/12/alprourbanwalk.png
END:VEVENT
BEGIN:VEVENT
DTSTART;VALUE=DATE:20200621
DTEND;VALUE=DATE:20200623
DTSTAMP:20260425T153657
CREATED:20200108T094251Z
LAST-MODIFIED:20200108T094251Z
UID:14259-1592704800-1592791199@www.golazo.com
SUMMARY:Bochum Urban Trail
DESCRIPTION:
URL:https://www.golazo.com/event/bochum-urban-trail-2/
LOCATION:Bochum Urban Trail\, Bochum\, Germany
CATEGORIES:Running,Sports
ATTACH;FMTTYPE=image/png:https://www.golazo.com/wp-content/uploads/2020/01/bochumurbantrail.png
END:VEVENT
BEGIN:VEVENT
DTSTART;TZID=Europe/Brussels:20200625T100000
DTEND;TZID=Europe/Brussels:20200627T190000
DTSTAMP:20260425T153657
CREATED:20200203T063030Z
LAST-MODIFIED:20200203T063030Z
UID:14628-1593079200-1593284400@www.golazo.com
SUMMARY:EK 3X3 (Basket)
DESCRIPTION:
URL:https://www.golazo.com/event/ek-3x3-basket/
LOCATION:EK 3X3\, Groenplaats\, Antwerpen\, 2000\, Belgium
CATEGORIES:Sports
END:VEVENT
END:VCALENDAR