BEGIN:VCALENDAR
VERSION:2.0
PRODID:-//Golazo - ECPv6.15.15//NONSGML v1.0//EN
CALSCALE:GREGORIAN
METHOD:PUBLISH
X-ORIGINAL-URL:https://www.golazo.com
X-WR-CALDESC:Events for Golazo
REFRESH-INTERVAL;VALUE=DURATION:PT1H
X-Robots-Tag:noindex
X-PUBLISHED-TTL:PT1H
BEGIN:VTIMEZONE
TZID:Europe/Brussels
BEGIN:DAYLIGHT
TZOFFSETFROM:+0100
TZOFFSETTO:+0200
TZNAME:CEST
DTSTART:20190331T010000
END:DAYLIGHT
BEGIN:STANDARD
TZOFFSETFROM:+0200
TZOFFSETTO:+0100
TZNAME:CET
DTSTART:20191027T010000
END:STANDARD
BEGIN:DAYLIGHT
TZOFFSETFROM:+0100
TZOFFSETTO:+0200
TZNAME:CEST
DTSTART:20200329T010000
END:DAYLIGHT
BEGIN:STANDARD
TZOFFSETFROM:+0200
TZOFFSETTO:+0100
TZNAME:CET
DTSTART:20201025T010000
END:STANDARD
BEGIN:DAYLIGHT
TZOFFSETFROM:+0100
TZOFFSETTO:+0200
TZNAME:CEST
DTSTART:20210328T010000
END:DAYLIGHT
BEGIN:STANDARD
TZOFFSETFROM:+0200
TZOFFSETTO:+0100
TZNAME:CET
DTSTART:20211031T010000
END:STANDARD
END:VTIMEZONE
BEGIN:VEVENT
DTSTART;VALUE=DATE:20200501
DTEND;VALUE=DATE:20200503
DTSTAMP:20260425T162253
CREATED:20191127T082932Z
LAST-MODIFIED:20191127T082932Z
UID:13895-1588298400-1588384799@www.golazo.com
SUMMARY:Philippe Gilbert Classic
DESCRIPTION:
URL:https://www.golazo.com/event/philippe-gilbert-classic-4/
LOCATION:Philippe Gilbert Classic\, Aywaille\, Belgium
CATEGORIES:Cycling,Sports
ATTACH;FMTTYPE=image/png:https://www.golazo.com/wp-content/uploads/2019/05/teamleaderCCTour.png
END:VEVENT
BEGIN:VEVENT
DTSTART;VALUE=DATE:20200502
DTEND;VALUE=DATE:20200504
DTSTAMP:20260425T162253
CREATED:20191127T083024Z
LAST-MODIFIED:20191127T083024Z
UID:13897-1588384800-1588471199@www.golazo.com
SUMMARY:Grinta! Challenge
DESCRIPTION:
URL:https://www.golazo.com/event/grinta-challenge-8/
LOCATION:Grinta! Challenge\, Tournai\, Belgium
CATEGORIES:Cycling,Sports
ATTACH;FMTTYPE=image/jpeg:https://www.golazo.com/wp-content/uploads/2018/11/logo-proximuscyclingchallenge.jpg
END:VEVENT
BEGIN:VEVENT
DTSTART;VALUE=DATE:20200506
DTEND;VALUE=DATE:20200508
DTSTAMP:20260425T162253
CREATED:20200128T114252Z
LAST-MODIFIED:20200128T114332Z
UID:14468-1588730400-1588816799@www.golazo.com
SUMMARY:Feyenoord Foundation FunRun
DESCRIPTION:
URL:https://www.golazo.com/event/feyenoord-foundation-funrun/
LOCATION:Feyenoord Foundation FunRun\, Van Zandvlietplein 1\, Rotterdam\, 3077\, Netherlands
CATEGORIES:Running,Sports
ATTACH;FMTTYPE=image/png:https://www.golazo.com/wp-content/uploads/2020/01/logo-in-blok-feyenoord.png
END:VEVENT
BEGIN:VEVENT
DTSTART;VALUE=DATE:20200517
DTEND;VALUE=DATE:20200519
DTSTAMP:20260425T162253
CREATED:20191127T083329Z
LAST-MODIFIED:20191127T083329Z
UID:13903-1589680800-1589767199@www.golazo.com
SUMMARY:Greg Van Avermaet Classic
DESCRIPTION:
URL:https://www.golazo.com/event/greg-van-avermaet-classic-4/
LOCATION:Greg Van Avermaet Classic\, Berlare\, Belgium
CATEGORIES:Cycling,Sports
ATTACH;FMTTYPE=image/png:https://www.golazo.com/wp-content/uploads/2019/05/teamleaderCCTour.png
END:VEVENT
BEGIN:VEVENT
DTSTART;VALUE=DATE:20200521
DTEND;VALUE=DATE:20200523
DTSTAMP:20260425T162253
CREATED:20200124T072805Z
LAST-MODIFIED:20200124T072805Z
UID:14423-1590026400-1590112799@www.golazo.com
SUMMARY:Lampiris Abdijentocht
DESCRIPTION:
URL:https://www.golazo.com/event/lampiris-abdijentocht-2/
LOCATION:Abdijentocht Averbode – Tongerlo\, Averbode\, Belgium
CATEGORIES:Running,Sports
ATTACH;FMTTYPE=image/png:https://www.golazo.com/wp-content/uploads/2020/01/logo-1.png
END:VEVENT
BEGIN:VEVENT
DTSTART;VALUE=DATE:20200531
DTEND;VALUE=DATE:20200602
DTSTAMP:20260425T162253
CREATED:20191127T083521Z
LAST-MODIFIED:20200131T105102Z
UID:13907-1590890400-1590976799@www.golazo.com
SUMMARY:Tilff - Bastogne - Tilff
DESCRIPTION:
URL:https://www.golazo.com/event/tilff-bastogne-tilff-7/
LOCATION:Tilff-Bastogne-Tilff\, Liège\, Belgium
CATEGORIES:Cycling,Sports
ATTACH;FMTTYPE=image/jpeg:https://www.golazo.com/wp-content/uploads/2018/11/logo-proximuscyclingchallenge.jpg
END:VEVENT
END:VCALENDAR