BEGIN:VCALENDAR
VERSION:2.0
PRODID:-//Golazo - ECPv6.15.15//NONSGML v1.0//EN
CALSCALE:GREGORIAN
METHOD:PUBLISH
X-WR-CALNAME:Golazo
X-ORIGINAL-URL:https://www.golazo.com
X-WR-CALDESC:Events for Golazo
REFRESH-INTERVAL;VALUE=DURATION:PT1H
X-Robots-Tag:noindex
X-PUBLISHED-TTL:PT1H
BEGIN:VTIMEZONE
TZID:Europe/Brussels
BEGIN:DAYLIGHT
TZOFFSETFROM:+0100
TZOFFSETTO:+0200
TZNAME:CEST
DTSTART:20180325T010000
END:DAYLIGHT
BEGIN:STANDARD
TZOFFSETFROM:+0200
TZOFFSETTO:+0100
TZNAME:CET
DTSTART:20181028T010000
END:STANDARD
BEGIN:DAYLIGHT
TZOFFSETFROM:+0100
TZOFFSETTO:+0200
TZNAME:CEST
DTSTART:20190331T010000
END:DAYLIGHT
BEGIN:STANDARD
TZOFFSETFROM:+0200
TZOFFSETTO:+0100
TZNAME:CET
DTSTART:20191027T010000
END:STANDARD
BEGIN:DAYLIGHT
TZOFFSETFROM:+0100
TZOFFSETTO:+0200
TZNAME:CEST
DTSTART:20200329T010000
END:DAYLIGHT
BEGIN:STANDARD
TZOFFSETFROM:+0200
TZOFFSETTO:+0100
TZNAME:CET
DTSTART:20201025T010000
END:STANDARD
END:VTIMEZONE
BEGIN:VEVENT
DTSTART;VALUE=DATE:20191006
DTEND;VALUE=DATE:20191008
DTSTAMP:20260426T025154
CREATED:20190524T090321Z
LAST-MODIFIED:20190524T090321Z
UID:12828-1570327200-1570413599@www.golazo.com
SUMMARY:Singelloop Utrecht
DESCRIPTION:
URL:https://www.golazo.com/event/singelloop-utrecht-4/
LOCATION:Singelloop Utrecht\, Jaarbeursplein\, Utrecht\, Netherlands
CATEGORIES:Running,Sport,Sports
ATTACH;FMTTYPE=image/png:https://www.golazo.com/wp-content/uploads/2019/05/image067.png
END:VEVENT
BEGIN:VEVENT
DTSTART;VALUE=DATE:20191006
DTEND;VALUE=DATE:20191008
DTSTAMP:20260426T025154
CREATED:20190524T102101Z
LAST-MODIFIED:20190827T100854Z
UID:12856-1570327200-1570413599@www.golazo.com
SUMMARY:GP Pelt (Rectavit series)
DESCRIPTION:
URL:https://www.golazo.com/event/gp-pelt/
LOCATION:GP Pelt\, Neerpelt\, Belgium
CATEGORIES:Cycling,Sport,Sports
ATTACH;FMTTYPE=image/png:https://www.golazo.com/wp-content/uploads/2019/05/rectavit-series-logo.png
END:VEVENT
BEGIN:VEVENT
DTSTART;VALUE=DATE:20191012
DTEND;VALUE=DATE:20191014
DTSTAMP:20260426T025154
CREATED:20190524T091741Z
LAST-MODIFIED:20190524T091741Z
UID:12837-1570845600-1570931999@www.golazo.com
SUMMARY:Tacx Cyclo Zeeland
DESCRIPTION:
URL:https://www.golazo.com/event/tacx-cyclo-zeeland-2/
LOCATION:Tacx Cyclo Zeeland\, Faelweg 5\, Vrouwenpolder\, Netherlands
CATEGORIES:Cycling,Sport,Sports
ATTACH;FMTTYPE=image/png:https://www.golazo.com/wp-content/uploads/2019/05/image062.png
END:VEVENT
BEGIN:VEVENT
DTSTART;VALUE=DATE:20191012
DTEND;VALUE=DATE:20191014
DTSTAMP:20260426T025154
CREATED:20190524T092107Z
LAST-MODIFIED:20190524T092107Z
UID:12841-1570845600-1570931999@www.golazo.com
SUMMARY:Rotterdam Night Run
DESCRIPTION:
URL:https://www.golazo.com/event/rotterdam-night-run-3/
LOCATION:Rotterdam Night Run\, Zevenhuizerplas\, Rotterdam\, Netherlands
CATEGORIES:Running,Sport,Sports
ATTACH;FMTTYPE=image/png:https://www.golazo.com/wp-content/uploads/2019/05/image063.png
END:VEVENT
BEGIN:VEVENT
DTSTART;VALUE=DATE:20191012
DTEND;VALUE=DATE:20191014
DTSTAMP:20260426T025154
CREATED:20190715T051636Z
LAST-MODIFIED:20190715T051636Z
UID:13150-1570845600-1570931999@www.golazo.com
SUMMARY:Poldercross Kruibeke (Ethias Cross)
DESCRIPTION:
URL:https://www.golazo.com/event/poldercross-kruibeke-ethias-cross/
LOCATION:Poldercross\, Houtenkruisstraat\, Kruibeke\, 9150\, Belgium
CATEGORIES:Cycling,Sport,Sports
ATTACH;FMTTYPE=image/png:https://www.golazo.com/wp-content/uploads/2019/07/ethiascross-2019.png
END:VEVENT
BEGIN:VEVENT
DTSTART;VALUE=DATE:20191013
DTEND;VALUE=DATE:20191015
DTSTAMP:20260426T025154
CREATED:20190524T091540Z
LAST-MODIFIED:20190524T091540Z
UID:12834-1570932000-1571018399@www.golazo.com
SUMMARY:4 Mijl van Groningen
DESCRIPTION:
URL:https://www.golazo.com/event/4-mijl-van-groningen/
LOCATION:4 Mijl van Groningen\, Raadhuisplein\, Groningen\, 9751 AN\, Netherlands
CATEGORIES:Running,Sport,Sports
ATTACH;FMTTYPE=image/png:https://www.golazo.com/wp-content/uploads/2019/05/menzis_4mijlgroningen_cmyk.png
END:VEVENT
BEGIN:VEVENT
DTSTART;VALUE=DATE:20191013
DTEND;VALUE=DATE:20191015
DTSTAMP:20260426T025154
CREATED:20190524T102156Z
LAST-MODIFIED:20190524T102156Z
UID:12858-1570932000-1571018399@www.golazo.com
SUMMARY:HBVL Dwars door Hasselt
DESCRIPTION:in
URL:https://www.golazo.com/event/hbvl-dwars-door-hasselt-7/
LOCATION:Dwars door Hasselt\, Hasselt\, Belgium
CATEGORIES:Running,Sport,Sports
ATTACH;FMTTYPE=image/png:https://www.golazo.com/wp-content/uploads/2019/05/finrtoRT-2019.png
END:VEVENT
BEGIN:VEVENT
DTSTART;TZID=Europe/Brussels:20191015T100000
DTEND;TZID=Europe/Brussels:20191015T190000
DTSTAMP:20260426T025154
CREATED:20190524T102309Z
LAST-MODIFIED:20190524T102309Z
UID:12860-1571133600-1571166000@www.golazo.com
SUMMARY:Nationale Sluitingsprijs
DESCRIPTION:
URL:https://www.golazo.com/event/nationale-sluitingsprijs-2/
LOCATION:Sluitingsprijs\, Putte-Kapellen\, Belgium
CATEGORIES:Cycling,Sport,Sports
END:VEVENT
BEGIN:VEVENT
DTSTART;VALUE=DATE:20191020
DTEND;VALUE=DATE:20191022
DTSTAMP:20260426T025154
CREATED:20190524T103651Z
LAST-MODIFIED:20190902T112734Z
UID:12865-1571536800-1571623199@www.golazo.com
SUMMARY:Athora Great Bruges Marathon
DESCRIPTION:
URL:https://www.golazo.com/event/generali-great-bruges-marathon-2/
LOCATION:Great Bruges Marathon\, ‘t Zand\, Brugge\, 8000\, Belgium
CATEGORIES:Running,Sport,Sports
ATTACH;FMTTYPE=image/png:https://www.golazo.com/wp-content/uploads/2019/05/logo-10.png
END:VEVENT
BEGIN:VEVENT
DTSTART;TZID=Europe/Brussels:20191020T100000
DTEND;TZID=Europe/Brussels:20191020T190000
DTSTAMP:20260426T025154
CREATED:20190524T104640Z
LAST-MODIFIED:20190524T104640Z
UID:12868-1571565600-1571598000@www.golazo.com
SUMMARY:DH Mons Urban Trail
DESCRIPTION:
URL:https://www.golazo.com/event/dh-mons-urban-trail-2/
LOCATION:Mons Urban Trail\, Bergen\, Belgium
CATEGORIES:Running,Sport,Sports
ATTACH;FMTTYPE=image/png:https://www.golazo.com/wp-content/uploads/2018/11/logo-mobile.png
END:VEVENT
BEGIN:VEVENT
DTSTART;VALUE=DATE:20191026
DTEND;VALUE=DATE:20191028
DTSTAMP:20260426T025154
CREATED:20190715T051924Z
LAST-MODIFIED:20190715T052135Z
UID:13153-1572055200-1572141599@www.golazo.com
SUMMARY:GP Beringen (Ethias Cross)
DESCRIPTION:
URL:https://www.golazo.com/event/gp-beringen-ethias-cross/
LOCATION:GP Beringen\, Steenstortstraat\, Beringen\, 3582\, Belgium
CATEGORIES:Cycling,Sport,Sports
ATTACH;FMTTYPE=image/png:https://www.golazo.com/wp-content/uploads/2019/07/ethiascross-2019.png
END:VEVENT
BEGIN:VEVENT
DTSTART;VALUE=DATE:20191027
DTEND;VALUE=DATE:20191029
DTSTAMP:20260426T025154
CREATED:20190524T105257Z
LAST-MODIFIED:20190524T105257Z
UID:12870-1572141600-1572224399@www.golazo.com
SUMMARY:Lampiris Averbode Nature Run & Walk
DESCRIPTION:
URL:https://www.golazo.com/event/lampiris-averbode-nature-run-walk/
LOCATION:Energy Park Averbode\, Abdijstraat 5\, Scherpenheuvel\, 3271\, Belgium
CATEGORIES:Running,Sport,Sports
ATTACH;FMTTYPE=image/png:https://www.golazo.com/wp-content/uploads/2019/05/logo-6.png
END:VEVENT
BEGIN:VEVENT
DTSTART;VALUE=DATE:20191027
DTEND;VALUE=DATE:20191029
DTSTAMP:20260426T025154
CREATED:20190524T105605Z
LAST-MODIFIED:20190524T105605Z
UID:12873-1572141600-1572224399@www.golazo.com
SUMMARY:Crosscup Relays
DESCRIPTION:
URL:https://www.golazo.com/event/crosscup-relays-2/
LOCATION:Lotto Cross Cup – Gent\, Gent\, Belgium
CATEGORIES:Athletics,Running,Sport,Sports
ATTACH;FMTTYPE=image/jpeg:https://www.golazo.com/wp-content/uploads/2019/05/fb-logo.jpg
END:VEVENT
END:VCALENDAR