BEGIN:VCALENDAR
VERSION:2.0
PRODID:-//Golazo - ECPv6.15.15//NONSGML v1.0//EN
CALSCALE:GREGORIAN
METHOD:PUBLISH
X-ORIGINAL-URL:https://www.golazo.com
X-WR-CALDESC:Events for Golazo
REFRESH-INTERVAL;VALUE=DURATION:PT1H
X-Robots-Tag:noindex
X-PUBLISHED-TTL:PT1H
BEGIN:VTIMEZONE
TZID:Europe/Brussels
BEGIN:DAYLIGHT
TZOFFSETFROM:+0100
TZOFFSETTO:+0200
TZNAME:CEST
DTSTART:20220327T010000
END:DAYLIGHT
BEGIN:STANDARD
TZOFFSETFROM:+0200
TZOFFSETTO:+0100
TZNAME:CET
DTSTART:20221030T010000
END:STANDARD
BEGIN:DAYLIGHT
TZOFFSETFROM:+0100
TZOFFSETTO:+0200
TZNAME:CEST
DTSTART:20230326T010000
END:DAYLIGHT
BEGIN:STANDARD
TZOFFSETFROM:+0200
TZOFFSETTO:+0100
TZNAME:CET
DTSTART:20231029T010000
END:STANDARD
BEGIN:DAYLIGHT
TZOFFSETFROM:+0100
TZOFFSETTO:+0200
TZNAME:CEST
DTSTART:20240331T010000
END:DAYLIGHT
BEGIN:STANDARD
TZOFFSETFROM:+0200
TZOFFSETTO:+0100
TZNAME:CET
DTSTART:20241027T010000
END:STANDARD
END:VTIMEZONE
BEGIN:VEVENT
DTSTART;VALUE=DATE:20231202
DTEND;VALUE=DATE:20231203
DTSTAMP:20260420T123952
CREATED:20220801T070033Z
LAST-MODIFIED:20231106T153215Z
UID:20361-1701475200-1701561599@www.golazo.com
SUMMARY:Schorrecross Boom - Boom - Telenet Superprestige
DESCRIPTION:
URL:https://www.golazo.com/event/superprestige-boom/
LOCATION:De Schorre\, Schommelei 1\, Boom\, 2850\, Belgium
CATEGORIES:Cycling
ATTACH;FMTTYPE=image/jpeg:https://www.golazo.com/wp-content/uploads/2023/06/BKHeusdenZolder-1.jpg
END:VEVENT
BEGIN:VEVENT
DTSTART;VALUE=DATE:20231216
DTEND;VALUE=DATE:20231217
DTSTAMP:20260420T123952
CREATED:20211227T155412Z
LAST-MODIFIED:20230915T072906Z
UID:18050-1702684800-1702771199@www.golazo.com
SUMMARY:Herentals Crosst - Herentals - X2O Badkamers Trofee
DESCRIPTION:
URL:https://www.golazo.com/event/x2o-trofee-herentals-crosst/
LOCATION:Herentals  Crosst\, Ringlaan\, Herentals\, Antwerpen\, 2200\, Belgium
CATEGORIES:Cycling
ATTACH;FMTTYPE=image/jpeg:https://www.golazo.com/wp-content/uploads/2020/10/x2otrofee.jpg
END:VEVENT
BEGIN:VEVENT
DTSTART;VALUE=DATE:20231227
DTEND;VALUE=DATE:20231228
DTSTAMP:20260420T123952
CREATED:20220801T070307Z
LAST-MODIFIED:20230915T073602Z
UID:20366-1703635200-1703721599@www.golazo.com
SUMMARY:Cyclocross Heusden-Zolder - Heusden-Zolder - Telenet Superprestige
DESCRIPTION:
URL:https://www.golazo.com/event/superprestige-heusden-zolder/
LOCATION:Superprestige Heusden-Zolder\, Circuit Zolder\, Heusden-Zolder\, 3550\, Belgium
CATEGORIES:Cycling
END:VEVENT
BEGIN:VEVENT
DTSTART;VALUE=DATE:20231230
DTEND;VALUE=DATE:20231231
DTSTAMP:20260420T123952
CREATED:20230630T095005Z
LAST-MODIFIED:20230630T095005Z
UID:24122-1703894400-1703980799@www.golazo.com
SUMMARY:BK Beachmountainbike
DESCRIPTION:
URL:https://www.golazo.com/event/bk-beachmountainbike/
LOCATION:Bredene\, Bredene\, Belgium
CATEGORIES:Cycling
END:VEVENT
END:VCALENDAR