BEGIN:VCALENDAR
VERSION:2.0
PRODID:-//Golazo - ECPv6.15.15//NONSGML v1.0//EN
CALSCALE:GREGORIAN
METHOD:PUBLISH
X-ORIGINAL-URL:https://www.golazo.com
X-WR-CALDESC:Events for Golazo
REFRESH-INTERVAL;VALUE=DURATION:PT1H
X-Robots-Tag:noindex
X-PUBLISHED-TTL:PT1H
BEGIN:VTIMEZONE
TZID:Europe/Brussels
BEGIN:DAYLIGHT
TZOFFSETFROM:+0100
TZOFFSETTO:+0200
TZNAME:CEST
DTSTART:20220327T010000
END:DAYLIGHT
BEGIN:STANDARD
TZOFFSETFROM:+0200
TZOFFSETTO:+0100
TZNAME:CET
DTSTART:20221030T010000
END:STANDARD
BEGIN:DAYLIGHT
TZOFFSETFROM:+0100
TZOFFSETTO:+0200
TZNAME:CEST
DTSTART:20230326T010000
END:DAYLIGHT
BEGIN:STANDARD
TZOFFSETFROM:+0200
TZOFFSETTO:+0100
TZNAME:CET
DTSTART:20231029T010000
END:STANDARD
BEGIN:DAYLIGHT
TZOFFSETFROM:+0100
TZOFFSETTO:+0200
TZNAME:CEST
DTSTART:20240331T010000
END:DAYLIGHT
BEGIN:STANDARD
TZOFFSETFROM:+0200
TZOFFSETTO:+0100
TZNAME:CET
DTSTART:20241027T010000
END:STANDARD
END:VTIMEZONE
BEGIN:VEVENT
DTSTART;TZID=Europe/Brussels:20230822T080000
DTEND;TZID=Europe/Brussels:20230901T170000
DTSTAMP:20260420T162407
CREATED:20230113T144247Z
LAST-MODIFIED:20231222T090243Z
UID:21764-1692691200-1693587600@www.golazo.com
SUMMARY:Renewi Tour - UCI World Tour
DESCRIPTION:
URL:https://www.golazo.com/event/benelux-tour-uci-world-tour/
LOCATION:Benelux Tour\, Belgium
CATEGORIES:Cycling
ATTACH;FMTTYPE=image/png:https://www.golazo.com/wp-content/uploads/2023/01/Renewi-Tour_rgb-01-q60b07fcgve6kce1yod3dnh1iht93hkjumx0s4fv9c.png
END:VEVENT
BEGIN:VEVENT
DTSTART;TZID=Europe/Brussels:20230907T080000
DTEND;TZID=Europe/Brussels:20230909T170000
DTSTAMP:20260420T162407
CREATED:20230320T132858Z
LAST-MODIFIED:20230320T132858Z
UID:23455-1694073600-1694278800@www.golazo.com
SUMMARY:Climbing for Life Dolomiti
DESCRIPTION:
URL:https://www.golazo.com/event/climbing-for-life-dolomiti-2/
LOCATION:Climbing for Life – Dolomiti\, Strada statale 243\, Badia\, Italy
CATEGORIES:Cycling
ATTACH;FMTTYPE=image/png:https://www.golazo.com/wp-content/uploads/2019/12/climbingforlife.png
END:VEVENT
BEGIN:VEVENT
DTSTART;VALUE=DATE:20230910
DTEND;VALUE=DATE:20230911
DTSTAMP:20260420T162407
CREATED:20170128T085621Z
LAST-MODIFIED:20230913T133605Z
UID:6720-1694304000-1694390399@www.golazo.com
SUMMARY:Gerrie Knetemann Classic
DESCRIPTION:
URL:https://www.golazo.com/event/gerrie-knetemann-classic/
CATEGORIES:Cycling
END:VEVENT
BEGIN:VEVENT
DTSTART;VALUE=DATE:20230915
DTEND;VALUE=DATE:20230916
DTSTAMP:20260420T162407
CREATED:20230320T133409Z
LAST-MODIFIED:20230320T133409Z
UID:23463-1694736000-1694822399@www.golazo.com
SUMMARY:Lotto Cycling Cup - Kampioenschap van Vlaanderen
DESCRIPTION:
URL:https://www.golazo.com/event/lotto-cycling-cup-kampioenschap-van-vlaanderen/
LOCATION:Kampioenschap van Vlaanderen\, Koolskamp\, 8851\, Belgium
CATEGORIES:Cycling
ATTACH;FMTTYPE=image/png:https://www.golazo.com/wp-content/uploads/2023/03/lottocyclingcup-23.png
END:VEVENT
BEGIN:VEVENT
DTSTART;VALUE=DATE:20230917
DTEND;VALUE=DATE:20230918
DTSTAMP:20260420T162407
CREATED:20170804T034123Z
LAST-MODIFIED:20230913T133708Z
UID:7575-1694908800-1694995199@www.golazo.com
SUMMARY:Harbour Tour
DESCRIPTION:
URL:https://www.golazo.com/event/harbour-tour/
CATEGORIES:Cycling
ATTACH;FMTTYPE=image/png:https://www.golazo.com/wp-content/uploads/2020/01/harbourtour.png
END:VEVENT
BEGIN:VEVENT
DTSTART;VALUE=DATE:20230917
DTEND;VALUE=DATE:20230918
DTSTAMP:20260420T162407
CREATED:20230320T134023Z
LAST-MODIFIED:20230320T134023Z
UID:23473-1694908800-1694995199@www.golazo.com
SUMMARY:Lindemans Lambic Tour
DESCRIPTION:
URL:https://www.golazo.com/event/lindemans-lambic-tour-2/
LOCATION:Lindemans Lambic Tour\, Brussel\, 1000\, Belgium
CATEGORIES:Cycling
END:VEVENT
END:VCALENDAR