BEGIN:VCALENDAR
VERSION:2.0
PRODID:-//Golazo - ECPv6.15.15//NONSGML v1.0//EN
CALSCALE:GREGORIAN
METHOD:PUBLISH
X-WR-CALNAME:Golazo
X-ORIGINAL-URL:https://www.golazo.com
X-WR-CALDESC:Events for Golazo
REFRESH-INTERVAL;VALUE=DURATION:PT1H
X-Robots-Tag:noindex
X-PUBLISHED-TTL:PT1H
BEGIN:VTIMEZONE
TZID:Europe/Brussels
BEGIN:DAYLIGHT
TZOFFSETFROM:+0100
TZOFFSETTO:+0200
TZNAME:CEST
DTSTART:20220327T010000
END:DAYLIGHT
BEGIN:STANDARD
TZOFFSETFROM:+0200
TZOFFSETTO:+0100
TZNAME:CET
DTSTART:20221030T010000
END:STANDARD
BEGIN:DAYLIGHT
TZOFFSETFROM:+0100
TZOFFSETTO:+0200
TZNAME:CEST
DTSTART:20230326T010000
END:DAYLIGHT
BEGIN:STANDARD
TZOFFSETFROM:+0200
TZOFFSETTO:+0100
TZNAME:CET
DTSTART:20231029T010000
END:STANDARD
BEGIN:DAYLIGHT
TZOFFSETFROM:+0100
TZOFFSETTO:+0200
TZNAME:CEST
DTSTART:20240331T010000
END:DAYLIGHT
BEGIN:STANDARD
TZOFFSETFROM:+0200
TZOFFSETTO:+0100
TZNAME:CET
DTSTART:20241027T010000
END:STANDARD
END:VTIMEZONE
BEGIN:VEVENT
DTSTART;VALUE=DATE:20230806
DTEND;VALUE=DATE:20230807
DTSTAMP:20260420T173237
CREATED:20150219T094044Z
LAST-MODIFIED:20230320T095741Z
UID:1984-1691280000-1691366399@www.golazo.com
SUMMARY:Fietsdodentocht
DESCRIPTION:
URL:https://www.golazo.com/event/fietsdodentocht/
LOCATION:Fietsdodentocht\, KSV Bornem\, Breevendreef 56\, Bornem\, 2880\, Belgium
CATEGORIES:Cycling
ATTACH;FMTTYPE=image/png:https://www.golazo.com/wp-content/uploads/2018/02/proximus-bol.png
END:VEVENT
BEGIN:VEVENT
DTSTART;TZID=Europe/Brussels:20230822T080000
DTEND;TZID=Europe/Brussels:20230901T170000
DTSTAMP:20260420T173237
CREATED:20230113T144247Z
LAST-MODIFIED:20231222T090243Z
UID:21764-1692691200-1693587600@www.golazo.com
SUMMARY:Renewi Tour - UCI World Tour
DESCRIPTION:
URL:https://www.golazo.com/event/benelux-tour-uci-world-tour/
LOCATION:Benelux Tour\, Belgium
CATEGORIES:Cycling
ATTACH;FMTTYPE=image/png:https://www.golazo.com/wp-content/uploads/2023/01/Renewi-Tour_rgb-01-q60b07fcgve6kce1yod3dnh1iht93hkjumx0s4fv9c.png
END:VEVENT
BEGIN:VEVENT
DTSTART;VALUE=DATE:20230826
DTEND;VALUE=DATE:20230827
DTSTAMP:20260420T173237
CREATED:20150219T094034Z
LAST-MODIFIED:20230320T095806Z
UID:1809-1693008000-1693094399@www.golazo.com
SUMMARY:Géants des Ardennes
DESCRIPTION:
URL:https://www.golazo.com/event/geants-des-ardennes/
LOCATION:Géants des Ardennes\, Liège\, Belgium
CATEGORIES:Cycling
ATTACH;FMTTYPE=image/png:https://www.golazo.com/wp-content/uploads/2018/02/proximus-bol.png
END:VEVENT
BEGIN:VEVENT
DTSTART;VALUE=DATE:20230827
DTEND;VALUE=DATE:20230828
DTSTAMP:20260420T173237
CREATED:20230113T143857Z
LAST-MODIFIED:20230320T095818Z
UID:21757-1693094400-1693180799@www.golazo.com
SUMMARY:Marmotte Granfondo Pyrénées
DESCRIPTION:
URL:https://www.golazo.com/event/marmotte-granfondo-pyrenees-2/
LOCATION:Marmotte Pyrénées\, Argelès-Gazost\, France
CATEGORIES:Cycling
ATTACH;FMTTYPE=image/png:https://www.golazo.com/wp-content/uploads/2019/05/Marmotte-Pyre-19.png
END:VEVENT
END:VCALENDAR