BEGIN:VCALENDAR
VERSION:2.0
PRODID:-//Golazo - ECPv6.15.15//NONSGML v1.0//EN
CALSCALE:GREGORIAN
METHOD:PUBLISH
X-ORIGINAL-URL:https://www.golazo.com
X-WR-CALDESC:Events for Golazo
REFRESH-INTERVAL;VALUE=DURATION:PT1H
X-Robots-Tag:noindex
X-PUBLISHED-TTL:PT1H
BEGIN:VTIMEZONE
TZID:Europe/Brussels
BEGIN:DAYLIGHT
TZOFFSETFROM:+0100
TZOFFSETTO:+0200
TZNAME:CEST
DTSTART:20220327T010000
END:DAYLIGHT
BEGIN:STANDARD
TZOFFSETFROM:+0200
TZOFFSETTO:+0100
TZNAME:CET
DTSTART:20221030T010000
END:STANDARD
BEGIN:DAYLIGHT
TZOFFSETFROM:+0100
TZOFFSETTO:+0200
TZNAME:CEST
DTSTART:20230326T010000
END:DAYLIGHT
BEGIN:STANDARD
TZOFFSETFROM:+0200
TZOFFSETTO:+0100
TZNAME:CET
DTSTART:20231029T010000
END:STANDARD
BEGIN:DAYLIGHT
TZOFFSETFROM:+0100
TZOFFSETTO:+0200
TZNAME:CEST
DTSTART:20240331T010000
END:DAYLIGHT
BEGIN:STANDARD
TZOFFSETFROM:+0200
TZOFFSETTO:+0100
TZNAME:CET
DTSTART:20241027T010000
END:STANDARD
END:VTIMEZONE
BEGIN:VEVENT
DTSTART;VALUE=DATE:20230513
DTEND;VALUE=DATE:20230514
DTSTAMP:20260420T180719
CREATED:20150219T094029Z
LAST-MODIFIED:20230320T094446Z
UID:1714-1683936000-1684022399@www.golazo.com
SUMMARY:La Chouffe Classic
DESCRIPTION:
URL:https://www.golazo.com/event/la-chouffe-classic/
LOCATION:La Chouffe Classic\, Houffalize\, Belgium
CATEGORIES:Cycling
ATTACH;FMTTYPE=image/png:https://www.golazo.com/wp-content/uploads/2018/02/proximus-bol.png
END:VEVENT
BEGIN:VEVENT
DTSTART;VALUE=DATE:20230514
DTEND;VALUE=DATE:20230515
DTSTAMP:20260420T180719
CREATED:20230508T105801Z
LAST-MODIFIED:20230508T105823Z
UID:23798-1684022400-1684108799@www.golazo.com
SUMMARY:Lotto Team Belgium Cyclo
DESCRIPTION:
URL:https://www.golazo.com/event/lotto-team-belgium-cyclo/
LOCATION:Lotto Team Belgium Cyclo\, Brusselsestraat 480\, Tubeke\, 1480\, Belgium
CATEGORIES:Cycling
ATTACH;FMTTYPE=image/png:https://www.golazo.com/wp-content/uploads/2023/05/lottoteambelgiumcyclo-2023.png
END:VEVENT
BEGIN:VEVENT
DTSTART;VALUE=DATE:20230520
DTEND;VALUE=DATE:20230521
DTSTAMP:20260420T180719
CREATED:20220228T141820Z
LAST-MODIFIED:20230517T094213Z
UID:18892-1684540800-1684627199@www.golazo.com
SUMMARY:Veenendaal – Veenendaal
DESCRIPTION:
URL:https://www.golazo.com/event/veenendaal-veenendaal/
LOCATION:Veenendaal\, Veenendaal\, 0318\, Netherlands
CATEGORIES:Cycling
ATTACH;FMTTYPE=image/png:https://www.golazo.com/wp-content/uploads/2022/02/ExteriooCC.png
END:VEVENT
BEGIN:VEVENT
DTSTART;VALUE=DATE:20230520
DTEND;VALUE=DATE:20230521
DTSTAMP:20260420T180719
CREATED:20150219T094029Z
LAST-MODIFIED:20230320T094608Z
UID:1708-1684540800-1684627199@www.golazo.com
SUMMARY:Flêche de Wallonie
DESCRIPTION:
URL:https://www.golazo.com/event/fleche-de-wallonie/
LOCATION:Flèche de Wallonie\, Spa\, Belgium
CATEGORIES:Cycling
ATTACH;FMTTYPE=image/png:https://www.golazo.com/wp-content/uploads/2018/02/proximus-bol.png
END:VEVENT
BEGIN:VEVENT
DTSTART;VALUE=DATE:20230528
DTEND;VALUE=DATE:20230529
DTSTAMP:20260420T180719
CREATED:20230113T100312Z
LAST-MODIFIED:20230320T094641Z
UID:21688-1685232000-1685318399@www.golazo.com
SUMMARY:Lotto Cycling Cup - GP Marcel Kint
DESCRIPTION:
URL:https://www.golazo.com/event/cycling-cup-gp-marcel-kint/
LOCATION:Marcel Kint Classic\, Zwevegem\, 8550\, Belgium
CATEGORIES:Cycling
END:VEVENT
BEGIN:VEVENT
DTSTART;VALUE=DATE:20230528
DTEND;VALUE=DATE:20230529
DTSTAMP:20260420T180719
CREATED:20230113T100442Z
LAST-MODIFIED:20230320T094646Z
UID:21690-1685232000-1685318399@www.golazo.com
SUMMARY:Best of Limburg
DESCRIPTION:
URL:https://www.golazo.com/event/best-of-limburg/
LOCATION:Hasselt\, Hasselt\, 3500\, Belgium
CATEGORIES:Cycling
ATTACH;FMTTYPE=image/png:https://www.golazo.com/wp-content/uploads/2018/02/proximus-bol.png
END:VEVENT
END:VCALENDAR