BEGIN:VCALENDAR
VERSION:2.0
PRODID:-//Golazo - ECPv6.15.15//NONSGML v1.0//EN
CALSCALE:GREGORIAN
METHOD:PUBLISH
X-ORIGINAL-URL:https://www.golazo.com
X-WR-CALDESC:Events for Golazo
REFRESH-INTERVAL;VALUE=DURATION:PT1H
X-Robots-Tag:noindex
X-PUBLISHED-TTL:PT1H
BEGIN:VTIMEZONE
TZID:Europe/Brussels
BEGIN:DAYLIGHT
TZOFFSETFROM:+0100
TZOFFSETTO:+0200
TZNAME:CEST
DTSTART:20220327T010000
END:DAYLIGHT
BEGIN:STANDARD
TZOFFSETFROM:+0200
TZOFFSETTO:+0100
TZNAME:CET
DTSTART:20221030T010000
END:STANDARD
BEGIN:DAYLIGHT
TZOFFSETFROM:+0100
TZOFFSETTO:+0200
TZNAME:CEST
DTSTART:20230326T010000
END:DAYLIGHT
BEGIN:STANDARD
TZOFFSETFROM:+0200
TZOFFSETTO:+0100
TZNAME:CET
DTSTART:20231029T010000
END:STANDARD
BEGIN:DAYLIGHT
TZOFFSETFROM:+0100
TZOFFSETTO:+0200
TZNAME:CEST
DTSTART:20240331T010000
END:DAYLIGHT
BEGIN:STANDARD
TZOFFSETFROM:+0200
TZOFFSETTO:+0100
TZNAME:CET
DTSTART:20241027T010000
END:STANDARD
END:VTIMEZONE
BEGIN:VEVENT
DTSTART;VALUE=DATE:20230401
DTEND;VALUE=DATE:20230402
DTSTAMP:20260420T213014
CREATED:20181123T094721Z
LAST-MODIFIED:20230320T093949Z
UID:9377-1680307200-1680393599@www.golazo.com
SUMMARY:We Ride Flanders - RVV Cyclo
DESCRIPTION:
URL:https://www.golazo.com/event/we-ride-flanders-rvv-cyclo/
LOCATION:We Ride Flanders Cyclo\, Oudenaarde\, Belgium
CATEGORIES:Cycling
ATTACH;FMTTYPE=image/png:https://www.golazo.com/wp-content/uploads/2018/11/werideflanders.png
END:VEVENT
BEGIN:VEVENT
DTSTART;VALUE=DATE:20230408
DTEND;VALUE=DATE:20230409
DTSTAMP:20260420T213014
CREATED:20180221T070823Z
LAST-MODIFIED:20230320T093959Z
UID:8107-1680912000-1680998399@www.golazo.com
SUMMARY:Scheldeprijs Cyclo
DESCRIPTION:
URL:https://www.golazo.com/event/scheldeprijs-cyclo/
LOCATION:Scheldeprijs Cyclo\, Door Verstraetelei 50\, Brasschaat\, 2930\, Belgium
CATEGORIES:Cycling
ATTACH;FMTTYPE=image/png:https://www.golazo.com/wp-content/uploads/2021/12/Continental-CT-Logo-zwart.png
END:VEVENT
BEGIN:VEVENT
DTSTART;VALUE=DATE:20230408
DTEND;VALUE=DATE:20230409
DTSTAMP:20260420T213014
CREATED:20191218T105117Z
LAST-MODIFIED:20230320T094005Z
UID:14073-1680912000-1680998399@www.golazo.com
SUMMARY:Paris-Roubaix Challenge
DESCRIPTION:
URL:https://www.golazo.com/event/paris-roubaix-challenge-8/
LOCATION:Paris-Roubaix Challenge\, Busigny - Roubaix\, France
CATEGORIES:Cycling,Sport
ATTACH;FMTTYPE=image/png:https://www.golazo.com/wp-content/uploads/2019/12/parisroubaix.png
END:VEVENT
BEGIN:VEVENT
DTSTART;VALUE=DATE:20230415
DTEND;VALUE=DATE:20230416
DTSTAMP:20260420T213014
CREATED:20191127T082714Z
LAST-MODIFIED:20230320T094011Z
UID:13891-1681516800-1681603199@www.golazo.com
SUMMARY:Brabantse Pijl Cyclo
DESCRIPTION:
URL:https://www.golazo.com/event/brabantse-pijl-cyclo-3/
LOCATION:Sporthal UCLL – Brabantse Pijl\, Hertogstraat 178\, Heverlee\, 3001\, Belgium
CATEGORIES:Cycling,Sports
ATTACH;FMTTYPE=image/png:https://www.golazo.com/wp-content/uploads/2021/12/Continental-CT-Logo-zwart.png
END:VEVENT
BEGIN:VEVENT
DTSTART;VALUE=DATE:20230422
DTEND;VALUE=DATE:20230423
DTSTAMP:20260420T213014
CREATED:20191218T110508Z
LAST-MODIFIED:20230320T094350Z
UID:14076-1682121600-1682207999@www.golazo.com
SUMMARY:Liège-Bastonge-Liège Challenge
DESCRIPTION:
URL:https://www.golazo.com/event/liege-bastonge-liege-challenge/
LOCATION:LBL Challenge\, Luik\, Belgium
CATEGORIES:Cycling,Sports
ATTACH;FMTTYPE=image/png:https://www.golazo.com/wp-content/uploads/2018/11/logo-lblchallenge.png
END:VEVENT
BEGIN:VEVENT
DTSTART;TZID=Europe/Brussels:20230428T080000
DTEND;TZID=Europe/Brussels:20230430T170000
DTSTAMP:20260420T213014
CREATED:20180221T072345Z
LAST-MODIFIED:20230320T094401Z
UID:8132-1682668800-1682874000@www.golazo.com
SUMMARY:Roc d'Ardenne
DESCRIPTION:
URL:https://www.golazo.com/event/roc-dardenne-3/
LOCATION:Roc d’Ardenne\, Houffalize\, Belgium
CATEGORIES:Cycling
ATTACH;FMTTYPE=image/png:https://www.golazo.com/wp-content/uploads/2018/02/Roc-logo-2023-1.png
END:VEVENT
BEGIN:VEVENT
DTSTART;VALUE=DATE:20230429
DTEND;VALUE=DATE:20230430
DTSTAMP:20260420T213014
CREATED:20180221T074024Z
LAST-MODIFIED:20230320T094407Z
UID:8149-1682726400-1682812799@www.golazo.com
SUMMARY:Tour de Namur Cyclo
DESCRIPTION:
URL:https://www.golazo.com/event/tour-de-namur-cyclo-6/
LOCATION:Centre Sportif de Floreffe\, Rue Joseph Hanse 6\, Floreffe\, 5150\, Belgium
CATEGORIES:Cycling
ATTACH;FMTTYPE=image/png:https://www.golazo.com/wp-content/uploads/2018/02/proximus-bol.png
END:VEVENT
END:VCALENDAR