BEGIN:VCALENDAR
VERSION:2.0
PRODID:-//Golazo - ECPv6.15.15//NONSGML v1.0//EN
CALSCALE:GREGORIAN
METHOD:PUBLISH
X-ORIGINAL-URL:https://www.golazo.com
X-WR-CALDESC:Events for Golazo
REFRESH-INTERVAL;VALUE=DURATION:PT1H
X-Robots-Tag:noindex
X-PUBLISHED-TTL:PT1H
BEGIN:VTIMEZONE
TZID:Europe/Brussels
BEGIN:DAYLIGHT
TZOFFSETFROM:+0100
TZOFFSETTO:+0200
TZNAME:CEST
DTSTART:20220327T010000
END:DAYLIGHT
BEGIN:STANDARD
TZOFFSETFROM:+0200
TZOFFSETTO:+0100
TZNAME:CET
DTSTART:20221030T010000
END:STANDARD
BEGIN:DAYLIGHT
TZOFFSETFROM:+0100
TZOFFSETTO:+0200
TZNAME:CEST
DTSTART:20230326T010000
END:DAYLIGHT
BEGIN:STANDARD
TZOFFSETFROM:+0200
TZOFFSETTO:+0100
TZNAME:CET
DTSTART:20231029T010000
END:STANDARD
BEGIN:DAYLIGHT
TZOFFSETFROM:+0100
TZOFFSETTO:+0200
TZNAME:CEST
DTSTART:20240331T010000
END:DAYLIGHT
BEGIN:STANDARD
TZOFFSETFROM:+0200
TZOFFSETTO:+0100
TZNAME:CET
DTSTART:20241027T010000
END:STANDARD
END:VTIMEZONE
BEGIN:VEVENT
DTSTART;VALUE=DATE:20230304
DTEND;VALUE=DATE:20230305
DTSTAMP:20260420T224928
CREATED:20180221T065132Z
LAST-MODIFIED:20230320T094126Z
UID:8091-1677888000-1677974399@www.golazo.com
SUMMARY:Ename Classic
DESCRIPTION:
URL:https://www.golazo.com/event/ename-classic-5/
LOCATION:Ename Classic\, Sint-Jozefsplein\, Oudenaarde\, Oost-Vlaanderen\, 9700\, Belgium
CATEGORIES:Cycling
ATTACH;FMTTYPE=image/jpeg:https://www.golazo.com/wp-content/uploads/2018/11/logo-proximuscyclingchallenge.jpg
END:VEVENT
BEGIN:VEVENT
DTSTART;VALUE=DATE:20230312
DTEND;VALUE=DATE:20230313
DTSTAMP:20260420T224928
CREATED:20181123T064224Z
LAST-MODIFIED:20230320T094201Z
UID:9344-1678579200-1678665599@www.golazo.com
SUMMARY:Nokere Koerse Cyclo
DESCRIPTION:
URL:https://www.golazo.com/event/nokere-koerse-cyclo-2/
LOCATION:Nokere Koerse Cyclo\, Waregemsestraat\, Nokere\, Belgium
CATEGORIES:Cycling
ATTACH;FMTTYPE=image/png:https://www.golazo.com/wp-content/uploads/2018/02/proximus-bol.png
END:VEVENT
BEGIN:VEVENT
DTSTART;VALUE=DATE:20230318
DTEND;VALUE=DATE:20230319
DTSTAMP:20260420T224928
CREATED:20180115T095846Z
LAST-MODIFIED:20230320T094223Z
UID:8023-1679097600-1679183999@www.golazo.com
SUMMARY:Dwars door Vlaanderen Cyclo
DESCRIPTION:
URL:https://www.golazo.com/event/dwars-door-vlaanderen-cyclo/
LOCATION:Dwars door Vlaanderen Cyclo\, Felix Verhaeghenstraat 7\, Waregem\, 8790\, Belgium
CATEGORIES:Cycling
ATTACH;FMTTYPE=image/png:https://www.golazo.com/wp-content/uploads/2021/12/Continental-CT-Logo-zwart.png
END:VEVENT
BEGIN:VEVENT
DTSTART;VALUE=DATE:20230325
DTEND;VALUE=DATE:20230326
DTSTAMP:20260420T224928
CREATED:20181123T070847Z
LAST-MODIFIED:20230320T094027Z
UID:9370-1679702400-1679788799@www.golazo.com
SUMMARY:Gent-Wevelgem Cyclo
DESCRIPTION:
URL:https://www.golazo.com/event/gent-wevelgem-cyclo-2/
LOCATION:Gent-Wevelgem Cyclo\, Guldenbergplein\, Wevelgem\, 8560\, Belgium
CATEGORIES:Cycling
ATTACH;FMTTYPE=image/png:https://www.golazo.com/wp-content/uploads/2021/12/Continental-CT-Logo-zwart.png
END:VEVENT
END:VCALENDAR