BEGIN:VCALENDAR
VERSION:2.0
PRODID:-//Golazo - ECPv6.15.15//NONSGML v1.0//EN
CALSCALE:GREGORIAN
METHOD:PUBLISH
X-WR-CALNAME:Golazo
X-ORIGINAL-URL:https://www.golazo.com
X-WR-CALDESC:Events for Golazo
REFRESH-INTERVAL;VALUE=DURATION:PT1H
X-Robots-Tag:noindex
X-PUBLISHED-TTL:PT1H
BEGIN:VTIMEZONE
TZID:Europe/Brussels
BEGIN:DAYLIGHT
TZOFFSETFROM:+0100
TZOFFSETTO:+0200
TZNAME:CEST
DTSTART:20220327T010000
END:DAYLIGHT
BEGIN:STANDARD
TZOFFSETFROM:+0200
TZOFFSETTO:+0100
TZNAME:CET
DTSTART:20221030T010000
END:STANDARD
BEGIN:DAYLIGHT
TZOFFSETFROM:+0100
TZOFFSETTO:+0200
TZNAME:CEST
DTSTART:20230326T010000
END:DAYLIGHT
BEGIN:STANDARD
TZOFFSETFROM:+0200
TZOFFSETTO:+0100
TZNAME:CET
DTSTART:20231029T010000
END:STANDARD
BEGIN:DAYLIGHT
TZOFFSETFROM:+0100
TZOFFSETTO:+0200
TZNAME:CEST
DTSTART:20240331T010000
END:DAYLIGHT
BEGIN:STANDARD
TZOFFSETFROM:+0200
TZOFFSETTO:+0100
TZNAME:CET
DTSTART:20241027T010000
END:STANDARD
END:VTIMEZONE
BEGIN:VEVENT
DTSTART;VALUE=DATE:20230211
DTEND;VALUE=DATE:20230213
DTSTAMP:20260420T235311
CREATED:20161017T090311Z
LAST-MODIFIED:20221207T131913Z
UID:5991-1676156400-1676242799@www.golazo.com
SUMMARY:X2O Trofee - Krawatencross
DESCRIPTION:
URL:https://www.golazo.com/event/dvv-verzekerignen-trofee-krawatencross-lille/
LOCATION:Krawatencross Lille\, Lille\, Belgium
CATEGORIES:Cycling
ATTACH;FMTTYPE=image/jpeg:https://www.golazo.com/wp-content/uploads/2020/10/x2otrofee.jpg
END:VEVENT
BEGIN:VEVENT
DTSTART;VALUE=DATE:20230217
DTEND;VALUE=DATE:20230219
DTSTAMP:20260420T235311
CREATED:20220117T130948Z
LAST-MODIFIED:20220829T084408Z
UID:18451-1676674800-1676761199@www.golazo.com
SUMMARY:Exact Cross Sint-Niklaas
DESCRIPTION:
URL:https://www.golazo.com/event/ethias-cross-sint-niklaas/
LOCATION:Waaslandcross – Sint Niklaas\, Lange Rekstraat 30\, Sint-Niklaas\, 9100\, Belgium
CATEGORIES:Cycling
ATTACH;FMTTYPE=image/png:https://www.golazo.com/wp-content/uploads/2022/08/exactcrosslogo.png
END:VEVENT
BEGIN:VEVENT
DTSTART;VALUE=DATE:20230218
DTEND;VALUE=DATE:20230220
DTSTAMP:20260420T235311
CREATED:20190715T045603Z
LAST-MODIFIED:20221207T132120Z
UID:13130-1676761200-1676847599@www.golazo.com
SUMMARY:X2O Trofee - Universities Cyclocross
DESCRIPTION:
URL:https://www.golazo.com/event/dvv-verzekeringen-trofee-brussels-universities-cyclocross-2/
LOCATION:VUB\, Pleinlaan 2\, Elsene\, 1050\, Belgium
CATEGORIES:Cycling,Sport,Sports
ATTACH;FMTTYPE=image/jpeg:https://www.golazo.com/wp-content/uploads/2020/10/x2otrofee.jpg
END:VEVENT
BEGIN:VEVENT
DTSTART;VALUE=DATE:20230225
DTEND;VALUE=DATE:20230227
DTSTAMP:20260420T235311
CREATED:20191127T081444Z
LAST-MODIFIED:20221207T132245Z
UID:13868-1677366000-1677452399@www.golazo.com
SUMMARY:Omloop Het Nieuwsblad Cyclo
DESCRIPTION:
URL:https://www.golazo.com/event/omloop-het-nieuwsblad-cyclo-3/
LOCATION:Omloop Het Nieuwsblad\, Richtpunt campus Ninove\, Ninove\, Oost-Vlaanderen\, 9400\, Belgium
CATEGORIES:Cycling,Sports
ATTACH;FMTTYPE=image/png:https://www.golazo.com/wp-content/uploads/2021/12/Continental-CT-Logo-zwart.png
END:VEVENT
BEGIN:VEVENT
DTSTART;VALUE=DATE:20230227
DTEND;VALUE=DATE:20230301
DTSTAMP:20260420T235311
CREATED:20221207T132342Z
LAST-MODIFIED:20230209T103216Z
UID:21357-1677538800-1677625199@www.golazo.com
SUMMARY:Lotto Cycling Cup - Le Samyn
DESCRIPTION:
URL:https://www.golazo.com/event/exterioo-cycling-cup-le-samyn/
LOCATION:GP Samyn\, Dour\, Belgium
CATEGORIES:Cycling
ATTACH;FMTTYPE=image/png:https://www.golazo.com/wp-content/uploads/2022/02/ExteriooCC.png
END:VEVENT
END:VCALENDAR