BEGIN:VCALENDAR
VERSION:2.0
PRODID:-//Golazo - ECPv6.15.15//NONSGML v1.0//EN
CALSCALE:GREGORIAN
METHOD:PUBLISH
X-WR-CALNAME:Golazo
X-ORIGINAL-URL:https://www.golazo.com
X-WR-CALDESC:Events for Golazo
REFRESH-INTERVAL;VALUE=DURATION:PT1H
X-Robots-Tag:noindex
X-PUBLISHED-TTL:PT1H
BEGIN:VTIMEZONE
TZID:Europe/Brussels
BEGIN:DAYLIGHT
TZOFFSETFROM:+0100
TZOFFSETTO:+0200
TZNAME:CEST
DTSTART:20210328T010000
END:DAYLIGHT
BEGIN:STANDARD
TZOFFSETFROM:+0200
TZOFFSETTO:+0100
TZNAME:CET
DTSTART:20211031T010000
END:STANDARD
BEGIN:DAYLIGHT
TZOFFSETFROM:+0100
TZOFFSETTO:+0200
TZNAME:CEST
DTSTART:20220327T010000
END:DAYLIGHT
BEGIN:STANDARD
TZOFFSETFROM:+0200
TZOFFSETTO:+0100
TZNAME:CET
DTSTART:20221030T010000
END:STANDARD
BEGIN:DAYLIGHT
TZOFFSETFROM:+0100
TZOFFSETTO:+0200
TZNAME:CEST
DTSTART:20230326T010000
END:DAYLIGHT
BEGIN:STANDARD
TZOFFSETFROM:+0200
TZOFFSETTO:+0100
TZNAME:CET
DTSTART:20231029T010000
END:STANDARD
BEGIN:DAYLIGHT
TZOFFSETFROM:+0100
TZOFFSETTO:+0200
TZNAME:CEST
DTSTART:20240331T010000
END:DAYLIGHT
BEGIN:STANDARD
TZOFFSETFROM:+0200
TZOFFSETTO:+0100
TZNAME:CET
DTSTART:20241027T010000
END:STANDARD
END:VTIMEZONE
BEGIN:VEVENT
DTSTART;VALUE=DATE:20221209
DTEND;VALUE=DATE:20221211
DTSTAMP:20260421T021133
CREATED:20220829T084033Z
LAST-MODIFIED:20230915T072733Z
UID:20700-1670626800-1670713199@www.golazo.com
SUMMARY:Robotland Cross - Essen - Exact Cross
DESCRIPTION:
URL:https://www.golazo.com/event/exact-cross-essen/
LOCATION:Cyclocross Essen\, Hemelrijk\, Essen\, 2910\, Belgium
CATEGORIES:Cycling
ATTACH;FMTTYPE=image/png:https://www.golazo.com/wp-content/uploads/2022/08/exactcrosslogo.png
END:VEVENT
BEGIN:VEVENT
DTSTART;TZID=Europe/Brussels:20221223T070000
DTEND;TZID=Europe/Brussels:20221223T160000
DTSTAMP:20260421T021133
CREATED:20220801T070123Z
LAST-MODIFIED:20221219T165442Z
UID:20363-1671778800-1671811200@www.golazo.com
SUMMARY:Exact Cross Mol
DESCRIPTION:
URL:https://www.golazo.com/event/exact-cross-mol/
LOCATION:Exact Cross Mol\, Mol\, Belgium
CATEGORIES:Cycling
END:VEVENT
BEGIN:VEVENT
DTSTART;VALUE=DATE:20221228
DTEND;VALUE=DATE:20221230
DTSTAMP:20260421T021133
CREATED:20221122T102408Z
LAST-MODIFIED:20221122T102408Z
UID:21236-1672268400-1672354799@www.golazo.com
SUMMARY:BK Beach Race
DESCRIPTION:
URL:https://www.golazo.com/event/bk-beach-race/
LOCATION:Bredene\, Bredene\, Belgium
CATEGORIES:Cycling
ATTACH;FMTTYPE=image/png:https://www.golazo.com/wp-content/uploads/2022/11/logo-bk-beachrace.png
END:VEVENT
BEGIN:VEVENT
DTSTART;VALUE=DATE:20221229
DTEND;VALUE=DATE:20221231
DTSTAMP:20260421T021133
CREATED:20150618T090427Z
LAST-MODIFIED:20221122T102122Z
UID:4718-1672354800-1672441199@www.golazo.com
SUMMARY:Exact Cross Loenhout
DESCRIPTION:
URL:https://www.golazo.com/event/bpost-bank-trofee-azencross-loenhout/
LOCATION:Loenhout\, Loenhout\, Belgium
CATEGORIES:Cycling
ATTACH;FMTTYPE=image/png:https://www.golazo.com/wp-content/uploads/2022/08/exactcrosslogo.png
END:VEVENT
BEGIN:VEVENT
DTSTART;VALUE=DATE:20221231
DTEND;VALUE=DATE:20230102
DTSTAMP:20260421T021133
CREATED:20180914T111523Z
LAST-MODIFIED:20221207T104513Z
UID:9082-1672527600-1672613999@www.golazo.com
SUMMARY:X2O Trofee - GP Sven Nys
DESCRIPTION:
URL:https://www.golazo.com/event/dvv-verzekeringen-trofee-gp-sven-nys-2/
LOCATION:GP Sven Nys\, Baal\, Belgium
CATEGORIES:Cycling,Sport
ATTACH;FMTTYPE=image/jpeg:https://www.golazo.com/wp-content/uploads/2020/10/x2otrofee.jpg
END:VEVENT
END:VCALENDAR