BEGIN:VCALENDAR
VERSION:2.0
PRODID:-//Golazo - ECPv6.15.15//NONSGML v1.0//EN
CALSCALE:GREGORIAN
METHOD:PUBLISH
X-ORIGINAL-URL:https://www.golazo.com
X-WR-CALDESC:Events for Golazo
REFRESH-INTERVAL;VALUE=DURATION:PT1H
X-Robots-Tag:noindex
X-PUBLISHED-TTL:PT1H
BEGIN:VTIMEZONE
TZID:Europe/Brussels
BEGIN:DAYLIGHT
TZOFFSETFROM:+0100
TZOFFSETTO:+0200
TZNAME:CEST
DTSTART:20210328T010000
END:DAYLIGHT
BEGIN:STANDARD
TZOFFSETFROM:+0200
TZOFFSETTO:+0100
TZNAME:CET
DTSTART:20211031T010000
END:STANDARD
BEGIN:DAYLIGHT
TZOFFSETFROM:+0100
TZOFFSETTO:+0200
TZNAME:CEST
DTSTART:20220327T010000
END:DAYLIGHT
BEGIN:STANDARD
TZOFFSETFROM:+0200
TZOFFSETTO:+0100
TZNAME:CET
DTSTART:20221030T010000
END:STANDARD
BEGIN:DAYLIGHT
TZOFFSETFROM:+0100
TZOFFSETTO:+0200
TZNAME:CEST
DTSTART:20230326T010000
END:DAYLIGHT
BEGIN:STANDARD
TZOFFSETFROM:+0200
TZOFFSETTO:+0100
TZNAME:CET
DTSTART:20231029T010000
END:STANDARD
END:VTIMEZONE
BEGIN:VEVENT
DTSTART;TZID=Europe/Brussels:20220908T070000
DTEND;TZID=Europe/Brussels:20220910T220000
DTSTAMP:20260421T052102
CREATED:20191227T114114Z
LAST-MODIFIED:20220609T071501Z
UID:14182-1662620400-1662847200@www.golazo.com
SUMMARY:Climbing for Life - Dolomiti
DESCRIPTION:
URL:https://www.golazo.com/event/climbing-for-life-dolomiti/
LOCATION:Climbing for Life – Dolomiti\, Strada statale 243\, Badia\, Italy
CATEGORIES:Cycling,Running,Sport,Walking
ATTACH;FMTTYPE=image/png:https://www.golazo.com/wp-content/uploads/2019/12/climbingforlife.png
END:VEVENT
BEGIN:VEVENT
DTSTART;TZID=Europe/Brussels:20220916T070000
DTEND;TZID=Europe/Brussels:20220916T160000
DTSTAMP:20260421T052102
CREATED:20220609T071956Z
LAST-MODIFIED:20220609T071956Z
UID:19948-1663311600-1663344000@www.golazo.com
SUMMARY:Exterioo Cycling Cup - Kampioenschap van Vlaanderen
DESCRIPTION:
URL:https://www.golazo.com/event/exterioo-cycling-cup-kampioenschap-van-vlaanderen/
LOCATION:Kampioenschap van Vlaanderen\, Koolskamp\, 8851\, Belgium
CATEGORIES:Cycling
ATTACH;FMTTYPE=image/png:https://www.golazo.com/wp-content/uploads/2022/02/ExteriooCC.png
END:VEVENT
BEGIN:VEVENT
DTSTART;VALUE=DATE:20220916
DTEND;VALUE=DATE:20220918
DTSTAMP:20260421T052102
CREATED:20191227T115125Z
LAST-MODIFIED:20220609T072058Z
UID:14196-1663369200-1663455599@www.golazo.com
SUMMARY:Proximus Cycling Challenge - Primus Classic
DESCRIPTION:
URL:https://www.golazo.com/event/primus-classic-2/
LOCATION:Super 8 Cyclo\, Boortmeerbeek\, Belgium
CATEGORIES:Cycling,Sport
ATTACH;FMTTYPE=image/jpeg:https://www.golazo.com/wp-content/uploads/2018/11/logo-proximuscyclingchallenge.jpg
END:VEVENT
BEGIN:VEVENT
DTSTART;VALUE=DATE:20220917
DTEND;VALUE=DATE:20220919
DTSTAMP:20260421T052102
CREATED:20190524T044705Z
LAST-MODIFIED:20220609T072943Z
UID:12791-1663455600-1663541999@www.golazo.com
SUMMARY:Harbour Tour
DESCRIPTION:
URL:https://www.golazo.com/event/harbour-tour-3/
LOCATION:Harbour Tour\, Van Riemsdijksweg 63\, Rotterdam\, 3088 HB\, Netherlands
CATEGORIES:Cycling,Sport,Sports
ATTACH;FMTTYPE=image/png:https://www.golazo.com/wp-content/uploads/2019/05/image054.png
END:VEVENT
BEGIN:VEVENT
DTSTART;VALUE=DATE:20220917
DTEND;VALUE=DATE:20220919
DTSTAMP:20260421T052102
CREATED:20200309T125515Z
LAST-MODIFIED:20220917T061051Z
UID:14860-1663455600-1663541999@www.golazo.com
SUMMARY:Exact Cross Kruibeke
DESCRIPTION:th
URL:https://www.golazo.com/event/ethias-cross-kruibeke/
LOCATION:Ethias Cross Kruibeke\, Beekdam 2\, Kruibeke\, 9150\, Belgium
CATEGORIES:Cycling
ATTACH;FMTTYPE=image/png:https://www.golazo.com/wp-content/uploads/2022/08/exactcrosslogo.png
END:VEVENT
BEGIN:VEVENT
DTSTART;VALUE=DATE:20220924
DTEND;VALUE=DATE:20220926
DTSTAMP:20260421T052102
CREATED:20200309T125604Z
LAST-MODIFIED:20220917T061135Z
UID:14863-1664060400-1664146799@www.golazo.com
SUMMARY:Exact Cross Beringen
DESCRIPTION:
URL:https://www.golazo.com/event/ethias-cross-beringen/
LOCATION:GP Beringen\, Steenstortstraat\, Beringen\, 3582\, Belgium
CATEGORIES:Cycling
ATTACH;FMTTYPE=image/png:https://www.golazo.com/wp-content/uploads/2022/08/exactcrosslogo.png
END:VEVENT
BEGIN:VEVENT
DTSTART;VALUE=DATE:20220930
DTEND;VALUE=DATE:20221002
DTSTAMP:20260421T052102
CREATED:20190715T051317Z
LAST-MODIFIED:20220917T061140Z
UID:13146-1664578800-1664665199@www.golazo.com
SUMMARY:Exact Cross Meulebeke
DESCRIPTION:
URL:https://www.golazo.com/event/berencross-meulebeke-ethias-cross/
LOCATION:Berencross\, Veldstraat\, Meulebeke\, 8760\, Belgium
CATEGORIES:Cycling,Sport,Sports
ATTACH;FMTTYPE=image/png:https://www.golazo.com/wp-content/uploads/2022/08/exactcrosslogo.png
END:VEVENT
END:VCALENDAR