BEGIN:VCALENDAR
VERSION:2.0
PRODID:-//Golazo - ECPv6.15.15//NONSGML v1.0//EN
CALSCALE:GREGORIAN
METHOD:PUBLISH
X-WR-CALNAME:Golazo
X-ORIGINAL-URL:https://www.golazo.com
X-WR-CALDESC:Events for Golazo
REFRESH-INTERVAL;VALUE=DURATION:PT1H
X-Robots-Tag:noindex
X-PUBLISHED-TTL:PT1H
BEGIN:VTIMEZONE
TZID:Europe/Brussels
BEGIN:DAYLIGHT
TZOFFSETFROM:+0100
TZOFFSETTO:+0200
TZNAME:CEST
DTSTART:20210328T010000
END:DAYLIGHT
BEGIN:STANDARD
TZOFFSETFROM:+0200
TZOFFSETTO:+0100
TZNAME:CET
DTSTART:20211031T010000
END:STANDARD
BEGIN:DAYLIGHT
TZOFFSETFROM:+0100
TZOFFSETTO:+0200
TZNAME:CEST
DTSTART:20220327T010000
END:DAYLIGHT
BEGIN:STANDARD
TZOFFSETFROM:+0200
TZOFFSETTO:+0100
TZNAME:CET
DTSTART:20221030T010000
END:STANDARD
BEGIN:DAYLIGHT
TZOFFSETFROM:+0100
TZOFFSETTO:+0200
TZNAME:CEST
DTSTART:20230326T010000
END:DAYLIGHT
BEGIN:STANDARD
TZOFFSETFROM:+0200
TZOFFSETTO:+0100
TZNAME:CET
DTSTART:20231029T010000
END:STANDARD
END:VTIMEZONE
BEGIN:VEVENT
DTSTART;VALUE=DATE:20220806
DTEND;VALUE=DATE:20220808
DTSTAMP:20260421T062019
CREATED:20220609T065814Z
LAST-MODIFIED:20220609T065814Z
UID:19921-1659826800-1659913199@www.golazo.com
SUMMARY:Proximus Cycling Challenge - Fietsdodentocht
DESCRIPTION:
URL:https://www.golazo.com/event/proximus-cycling-challenge-fietsdodentocht/
LOCATION:Fietsdodentocht\, KSV Bornem\, Breevendreef 56\, Bornem\, 2880\, Belgium
CATEGORIES:Cycling
ATTACH;FMTTYPE=image/jpeg:https://www.golazo.com/wp-content/uploads/2018/11/logo-proximuscyclingchallenge.jpg
END:VEVENT
BEGIN:VEVENT
DTSTART;TZID=Europe/Brussels:20220807T070000
DTEND;TZID=Europe/Brussels:20220807T160000
DTSTAMP:20260421T062019
CREATED:20220609T070207Z
LAST-MODIFIED:20220609T070207Z
UID:19927-1659855600-1659888000@www.golazo.com
SUMMARY:GP Jef Scherens / Rondom Leuven
DESCRIPTION:
URL:https://www.golazo.com/event/gp-jef-scherens-rondom-leuven/
LOCATION:Leuven – Grote Markt\, Grote Markt\, Leuven\, 3001\, Belgium
CATEGORIES:Cycling
ATTACH;FMTTYPE=image/png:https://www.golazo.com/wp-content/uploads/2022/06/TourOfLeuven.png
END:VEVENT
BEGIN:VEVENT
DTSTART;TZID=Europe/Brussels:20220820T070000
DTEND;TZID=Europe/Brussels:20220820T160000
DTSTAMP:20260421T062019
CREATED:20220609T070421Z
LAST-MODIFIED:20220609T070421Z
UID:19932-1660978800-1661011200@www.golazo.com
SUMMARY:Proximus Cycling Challenge - Géants des Ardenes
DESCRIPTION:
URL:https://www.golazo.com/event/proximus-cycling-challenge-geants-des-ardenes/
LOCATION:Géants des Ardennes\, Liège\, Belgium
CATEGORIES:Cycling
ATTACH;FMTTYPE=image/jpeg:https://www.golazo.com/wp-content/uploads/2018/11/logo-proximuscyclingchallenge.jpg
END:VEVENT
END:VCALENDAR