BEGIN:VCALENDAR
VERSION:2.0
PRODID:-//Golazo - ECPv6.15.15//NONSGML v1.0//EN
CALSCALE:GREGORIAN
METHOD:PUBLISH
X-WR-CALNAME:Golazo
X-ORIGINAL-URL:https://www.golazo.com
X-WR-CALDESC:Events for Golazo
REFRESH-INTERVAL;VALUE=DURATION:PT1H
X-Robots-Tag:noindex
X-PUBLISHED-TTL:PT1H
BEGIN:VTIMEZONE
TZID:Europe/Brussels
BEGIN:DAYLIGHT
TZOFFSETFROM:+0100
TZOFFSETTO:+0200
TZNAME:CEST
DTSTART:20210328T010000
END:DAYLIGHT
BEGIN:STANDARD
TZOFFSETFROM:+0200
TZOFFSETTO:+0100
TZNAME:CET
DTSTART:20211031T010000
END:STANDARD
BEGIN:DAYLIGHT
TZOFFSETFROM:+0100
TZOFFSETTO:+0200
TZNAME:CEST
DTSTART:20220327T010000
END:DAYLIGHT
BEGIN:STANDARD
TZOFFSETFROM:+0200
TZOFFSETTO:+0100
TZNAME:CET
DTSTART:20221030T010000
END:STANDARD
BEGIN:DAYLIGHT
TZOFFSETFROM:+0100
TZOFFSETTO:+0200
TZNAME:CEST
DTSTART:20230326T010000
END:DAYLIGHT
BEGIN:STANDARD
TZOFFSETFROM:+0200
TZOFFSETTO:+0100
TZNAME:CET
DTSTART:20231029T010000
END:STANDARD
END:VTIMEZONE
BEGIN:VEVENT
DTSTART;VALUE=DATE:20220603
DTEND;VALUE=DATE:20220605
DTSTAMP:20260421T084144
CREATED:20200130T121654Z
LAST-MODIFIED:20220117T131353Z
UID:14504-1654297200-1654383599@www.golazo.com
SUMMARY:Drenthe's mooiste
DESCRIPTION:
URL:https://www.golazo.com/event/drenthes-mooiste-3/
LOCATION:Drenthe’s mooiste\, Sportveldenweg 2\, Hoogeveen\, 7902\, Netherlands
CATEGORIES:Cycling,Sports
ATTACH;FMTTYPE=image/png:https://www.golazo.com/wp-content/uploads/2020/01/logo-DrenthesMooiste.png
END:VEVENT
BEGIN:VEVENT
DTSTART;VALUE=DATE:20220604
DTEND;VALUE=DATE:20220606
DTSTAMP:20260421T084144
CREATED:20180305T113429Z
LAST-MODIFIED:20220117T131258Z
UID:8172-1654383600-1654469999@www.golazo.com
SUMMARY:Tilff-Bastogne-Tilff
DESCRIPTION:
URL:https://www.golazo.com/event/tilff-bastogne-tilff-4/
LOCATION:Tilff-Bastogne-Tilff\, Liège\, Belgium
CATEGORIES:Cycling
ATTACH;FMTTYPE=image/jpeg:https://www.golazo.com/wp-content/uploads/2018/11/logo-proximuscyclingchallenge.jpg
END:VEVENT
BEGIN:VEVENT
DTSTART;VALUE=DATE:20220610
DTEND;VALUE=DATE:20220612
DTSTAMP:20260421T084144
CREATED:20191127T083854Z
LAST-MODIFIED:20220117T132253Z
UID:13911-1654902000-1654988399@www.golazo.com
SUMMARY:Landen - Trois-Ponts - Landen
DESCRIPTION:
URL:https://www.golazo.com/event/landen-trois-ponts-landen-3/
LOCATION:Landen – Trois-Pont – Landen\, Hannuitsesteenweg\, Landen\, 3400\, Belgium
CATEGORIES:Cycling,Sports
ATTACH;FMTTYPE=image/jpeg:https://www.golazo.com/wp-content/uploads/2018/11/logo-proximuscyclingchallenge.jpg
END:VEVENT
BEGIN:VEVENT
DTSTART;TZID=Europe/Brussels:20220614T070000
DTEND;TZID=Europe/Brussels:20220619T160000
DTSTAMP:20260421T084144
CREATED:20180305T113829Z
LAST-MODIFIED:20220117T132643Z
UID:8178-1655190000-1655654400@www.golazo.com
SUMMARY:Baloise Belgium Tour
DESCRIPTION:
URL:https://www.golazo.com/event/baloise-belgium-tour-6/
LOCATION:Baloise Belgium Tour\, Belgium
CATEGORIES:Cycling
ATTACH;FMTTYPE=image/png:https://www.golazo.com/wp-content/uploads/2019/12/baloisebelgiumtour.png
END:VEVENT
BEGIN:VEVENT
DTSTART;TZID=Europe/Brussels:20220616T070000
DTEND;TZID=Europe/Brussels:20220618T160000
DTSTAMP:20260421T084144
CREATED:20191220T064204Z
LAST-MODIFIED:20220117T132726Z
UID:14111-1655362800-1655568000@www.golazo.com
SUMMARY:Climbing for Life - Valloire-Galibier
DESCRIPTION:
URL:https://www.golazo.com/event/climbing-for-life-valloire-galibier/
LOCATION:Climbing for Life – Col du Galibier\, Galibier (Fr)\, France
CATEGORIES:Cycling,Running,Sport
ATTACH;FMTTYPE=image/png:https://www.golazo.com/wp-content/uploads/2019/12/climbingforlife.png
END:VEVENT
BEGIN:VEVENT
DTSTART;VALUE=DATE:20220624
DTEND;VALUE=DATE:20220626
DTSTAMP:20260421T084144
CREATED:20191127T084018Z
LAST-MODIFIED:20220117T145314Z
UID:13914-1656111600-1656197999@www.golazo.com
SUMMARY:Serge Baguet Classic
DESCRIPTION:
URL:https://www.golazo.com/event/serge-baguet-classic-3/
LOCATION:Serge Baguet Classic\, Nieuwstraat 23\, Lierde\, 9570\, Belgium
CATEGORIES:Cycling,Sports
ATTACH;FMTTYPE=image/jpeg:https://www.golazo.com/wp-content/uploads/2018/11/logo-proximuscyclingchallenge.jpg
END:VEVENT
BEGIN:VEVENT
DTSTART;VALUE=DATE:20220625
DTEND;VALUE=DATE:20220627
DTSTAMP:20260421T084144
CREATED:20220117T150215Z
LAST-MODIFIED:20220117T150215Z
UID:18470-1656198000-1656284399@www.golazo.com
SUMMARY:BK Wielrennen
DESCRIPTION:
URL:https://www.golazo.com/event/bk-wielrennen-2/
LOCATION:BK Middelkerke\, Middelkerke\, Belgium
CATEGORIES:Cycling
ATTACH;FMTTYPE=image/png:https://www.golazo.com/wp-content/uploads/2021/12/bkm-logo-pc11t3rk03v1y8naw5wh044jbetnmf6d6yfwqzyj28.png
END:VEVENT
END:VCALENDAR