BEGIN:VCALENDAR
VERSION:2.0
PRODID:-//Golazo - ECPv6.15.15//NONSGML v1.0//EN
CALSCALE:GREGORIAN
METHOD:PUBLISH
X-ORIGINAL-URL:https://www.golazo.com
X-WR-CALDESC:Events for Golazo
REFRESH-INTERVAL;VALUE=DURATION:PT1H
X-Robots-Tag:noindex
X-PUBLISHED-TTL:PT1H
BEGIN:VTIMEZONE
TZID:Europe/Brussels
BEGIN:DAYLIGHT
TZOFFSETFROM:+0100
TZOFFSETTO:+0200
TZNAME:CEST
DTSTART:20210328T010000
END:DAYLIGHT
BEGIN:STANDARD
TZOFFSETFROM:+0200
TZOFFSETTO:+0100
TZNAME:CET
DTSTART:20211031T010000
END:STANDARD
BEGIN:DAYLIGHT
TZOFFSETFROM:+0100
TZOFFSETTO:+0200
TZNAME:CEST
DTSTART:20220327T010000
END:DAYLIGHT
BEGIN:STANDARD
TZOFFSETFROM:+0200
TZOFFSETTO:+0100
TZNAME:CET
DTSTART:20221030T010000
END:STANDARD
BEGIN:DAYLIGHT
TZOFFSETFROM:+0100
TZOFFSETTO:+0200
TZNAME:CEST
DTSTART:20230326T010000
END:DAYLIGHT
BEGIN:STANDARD
TZOFFSETFROM:+0200
TZOFFSETTO:+0100
TZNAME:CET
DTSTART:20231029T010000
END:STANDARD
END:VTIMEZONE
BEGIN:VEVENT
DTSTART;VALUE=DATE:20220430
DTEND;VALUE=DATE:20220502
DTSTAMP:20260421T094424
CREATED:20190423T113445Z
LAST-MODIFIED:20211229T112603Z
UID:12509-1651359600-1651445999@www.golazo.com
SUMMARY:Philippe Gilbert Classic
DESCRIPTION:
URL:https://www.golazo.com/event/philippe-gilbert-classic-3/
LOCATION:La Philippe Gilbert\, Aywaille\, Belgium
CATEGORIES:Cycling,Sport,Sports
ATTACH;FMTTYPE=image/jpeg:https://www.golazo.com/wp-content/uploads/2018/11/logo-proximuscyclingchallenge.jpg
END:VEVENT
BEGIN:VEVENT
DTSTART;VALUE=DATE:20220513
DTEND;VALUE=DATE:20220515
DTSTAMP:20260421T094424
CREATED:20190211T120347Z
LAST-MODIFIED:20211229T105234Z
UID:11614-1652482800-1652569199@www.golazo.com
SUMMARY:Classico Boretti
DESCRIPTION:
URL:https://www.golazo.com/event/classico-boretti-nl-2/
LOCATION:Classico Boretti(NL)\, Papendallaan\, Arnhem\, 6816\, Netherlands
CATEGORIES:Cycling,Sport
ATTACH;FMTTYPE=image/png:https://www.golazo.com/wp-content/uploads/2019/02/image028.png
END:VEVENT
BEGIN:VEVENT
DTSTART;VALUE=DATE:20220521
DTEND;VALUE=DATE:20220523
DTSTAMP:20260421T094424
CREATED:20211229T115041Z
LAST-MODIFIED:20211229T115041Z
UID:18218-1653174000-1653260399@www.golazo.com
SUMMARY:Abdijentocht Gravel
DESCRIPTION:
URL:https://www.golazo.com/event/abdijentocht-gravel/
LOCATION:Abdijentocht Gravel\, Judocus Pauwelslaan\, Averbode\, 3271\, Belgium
CATEGORIES:Cycling,Sport
ATTACH;FMTTYPE=image/png:https://www.golazo.com/wp-content/uploads/2021/12/Yuzzu-Gravel-Series-logo.png
END:VEVENT
END:VCALENDAR