BEGIN:VCALENDAR
VERSION:2.0
PRODID:-//Golazo - ECPv6.15.15//NONSGML v1.0//EN
CALSCALE:GREGORIAN
METHOD:PUBLISH
X-WR-CALNAME:Golazo
X-ORIGINAL-URL:https://www.golazo.com
X-WR-CALDESC:Events for Golazo
REFRESH-INTERVAL;VALUE=DURATION:PT1H
X-Robots-Tag:noindex
X-PUBLISHED-TTL:PT1H
BEGIN:VTIMEZONE
TZID:Europe/Brussels
BEGIN:DAYLIGHT
TZOFFSETFROM:+0100
TZOFFSETTO:+0200
TZNAME:CEST
DTSTART:20210328T010000
END:DAYLIGHT
BEGIN:STANDARD
TZOFFSETFROM:+0200
TZOFFSETTO:+0100
TZNAME:CET
DTSTART:20211031T010000
END:STANDARD
BEGIN:DAYLIGHT
TZOFFSETFROM:+0100
TZOFFSETTO:+0200
TZNAME:CEST
DTSTART:20220327T010000
END:DAYLIGHT
BEGIN:STANDARD
TZOFFSETFROM:+0200
TZOFFSETTO:+0100
TZNAME:CET
DTSTART:20221030T010000
END:STANDARD
BEGIN:DAYLIGHT
TZOFFSETFROM:+0100
TZOFFSETTO:+0200
TZNAME:CEST
DTSTART:20230326T010000
END:DAYLIGHT
BEGIN:STANDARD
TZOFFSETFROM:+0200
TZOFFSETTO:+0100
TZNAME:CET
DTSTART:20231029T010000
END:STANDARD
END:VTIMEZONE
BEGIN:VEVENT
DTSTART;VALUE=DATE:20220312
DTEND;VALUE=DATE:20220314
DTSTAMP:20260421T122804
CREATED:20211228T095522Z
LAST-MODIFIED:20211228T100019Z
UID:18098-1647126000-1647212399@www.golazo.com
SUMMARY:Danilith Nokere Koerse Cyclo
DESCRIPTION:
URL:https://www.golazo.com/event/danilith-nokere-koerse-cyclo-2/
LOCATION:Nokere Koerse Cyclo\, Waregemsestraat\, Nokere\, Belgium
CATEGORIES:Cycling,Sport
ATTACH;FMTTYPE=image/png:https://www.golazo.com/wp-content/uploads/2021/12/Continental-CT-Logo-zwart.png
END:VEVENT
BEGIN:VEVENT
DTSTART;VALUE=DATE:20220312
DTEND;VALUE=DATE:20220314
DTSTAMP:20260421T122804
CREATED:20220228T141133Z
LAST-MODIFIED:20220228T141349Z
UID:18888-1647126000-1647212399@www.golazo.com
SUMMARY:Ronde van Drenthe
DESCRIPTION:
URL:https://www.golazo.com/event/ronde-van-drenthe/
LOCATION:Ronde van Drenthe\, Netherlands
CATEGORIES:Cycling
ATTACH;FMTTYPE=image/png:https://www.golazo.com/wp-content/uploads/2022/02/ExteriooCC.png
END:VEVENT
BEGIN:VEVENT
DTSTART;VALUE=DATE:20220318
DTEND;VALUE=DATE:20220320
DTSTAMP:20260421T122804
CREATED:20211228T100256Z
LAST-MODIFIED:20211228T100256Z
UID:18105-1647644400-1647730799@www.golazo.com
SUMMARY:Dwars door Vlaanderen Cyclo
DESCRIPTION:
URL:https://www.golazo.com/event/dwars-door-vlaanderen-cyclo-4/
LOCATION:Dwars door Vlaanderen Cyclo\, Felix Verhaeghenstraat 7\, Waregem\, 8790\, Belgium
CATEGORIES:Cycling,Sport
ATTACH;FMTTYPE=image/png:https://www.golazo.com/wp-content/uploads/2021/12/Continental-CT-Logo-zwart.png
END:VEVENT
BEGIN:VEVENT
DTSTART;VALUE=DATE:20220326
DTEND;VALUE=DATE:20220328
DTSTAMP:20260421T122804
CREATED:20211228T101731Z
LAST-MODIFIED:20211228T101731Z
UID:18130-1648335600-1648421999@www.golazo.com
SUMMARY:E3 Cyclo
DESCRIPTION:
URL:https://www.golazo.com/event/e3-cyclo/
LOCATION:E3 Cyclo\, Stasegemsesteenweg 40\, Harelbeke\, West-Vlaanderen\, 8530\, Belgium
CATEGORIES:Cycling,Sport
ATTACH;FMTTYPE=image/png:https://www.golazo.com/wp-content/uploads/2021/12/Continental-CT-Logo-zwart.png
END:VEVENT
END:VCALENDAR