BEGIN:VCALENDAR
VERSION:2.0
PRODID:-//Golazo - ECPv6.15.15//NONSGML v1.0//EN
CALSCALE:GREGORIAN
METHOD:PUBLISH
X-ORIGINAL-URL:https://www.golazo.com
X-WR-CALDESC:Events for Golazo
REFRESH-INTERVAL;VALUE=DURATION:PT1H
X-Robots-Tag:noindex
X-PUBLISHED-TTL:PT1H
BEGIN:VTIMEZONE
TZID:Europe/Brussels
BEGIN:DAYLIGHT
TZOFFSETFROM:+0100
TZOFFSETTO:+0200
TZNAME:CEST
DTSTART:20210328T010000
END:DAYLIGHT
BEGIN:STANDARD
TZOFFSETFROM:+0200
TZOFFSETTO:+0100
TZNAME:CET
DTSTART:20211031T010000
END:STANDARD
BEGIN:DAYLIGHT
TZOFFSETFROM:+0100
TZOFFSETTO:+0200
TZNAME:CEST
DTSTART:20220327T010000
END:DAYLIGHT
BEGIN:STANDARD
TZOFFSETFROM:+0200
TZOFFSETTO:+0100
TZNAME:CET
DTSTART:20221030T010000
END:STANDARD
BEGIN:DAYLIGHT
TZOFFSETFROM:+0100
TZOFFSETTO:+0200
TZNAME:CEST
DTSTART:20230326T010000
END:DAYLIGHT
BEGIN:STANDARD
TZOFFSETFROM:+0200
TZOFFSETTO:+0100
TZNAME:CET
DTSTART:20231029T010000
END:STANDARD
END:VTIMEZONE
BEGIN:VEVENT
DTSTART;TZID=Europe/Brussels:20220101T090000
DTEND;TZID=Europe/Brussels:20220101T180000
DTSTAMP:20260421T143954
CREATED:20200309T131420Z
LAST-MODIFIED:20211227T155019Z
UID:14873-1641027600-1641060000@www.golazo.com
SUMMARY:X2O Verzekeringen Trofee - GP Sven Nys
DESCRIPTION:
URL:https://www.golazo.com/event/dvv-trofee-gp-sven-nys/
LOCATION:GP Sven Nys\, Baal\, Belgium
CATEGORIES:Cycling
END:VEVENT
BEGIN:VEVENT
DTSTART;TZID=Europe/Brussels:20220108T070000
DTEND;TZID=Europe/Brussels:20220109T160000
DTSTAMP:20260421T143954
CREATED:20211227T155945Z
LAST-MODIFIED:20211227T155945Z
UID:18054-1641625200-1641744000@www.golazo.com
SUMMARY:BK cyclocross
DESCRIPTION:
URL:https://www.golazo.com/event/bk-cyclocross-2/
LOCATION:BK Cyclocross – Middelkerke\, Domein Lombardsijde\, Middelkerke\, West-Vlaanderen\, 8434\, Belgium
CATEGORIES:Cycling
ATTACH;FMTTYPE=image/png:https://www.golazo.com/wp-content/uploads/2021/12/bkm-logo-pc11t3rk03v1y8naw5wh044jbetnmf6d6yfwqzyj28.png
END:VEVENT
BEGIN:VEVENT
DTSTART;VALUE=DATE:20220121
DTEND;VALUE=DATE:20220123
DTSTAMP:20260421T143954
CREATED:20211228T071107Z
LAST-MODIFIED:20211228T071107Z
UID:18059-1642806000-1642892399@www.golazo.com
SUMMARY:X2O Badkamers Trofee - Flandriencross
DESCRIPTION:
URL:https://www.golazo.com/event/x2o-badkamers-trofee-flandriencross/
LOCATION:Flandriencross\, Hamme\, 9220\, Belgium
CATEGORIES:Cycling,Sport
ATTACH;FMTTYPE=image/jpeg:https://www.golazo.com/wp-content/uploads/2020/10/x2otrofee.jpg
END:VEVENT
END:VCALENDAR