BEGIN:VCALENDAR
VERSION:2.0
PRODID:-//Golazo - ECPv6.15.15//NONSGML v1.0//EN
CALSCALE:GREGORIAN
METHOD:PUBLISH
X-ORIGINAL-URL:https://www.golazo.com
X-WR-CALDESC:Events for Golazo
REFRESH-INTERVAL;VALUE=DURATION:PT1H
X-Robots-Tag:noindex
X-PUBLISHED-TTL:PT1H
BEGIN:VTIMEZONE
TZID:Europe/Brussels
BEGIN:DAYLIGHT
TZOFFSETFROM:+0100
TZOFFSETTO:+0200
TZNAME:CEST
DTSTART:20200329T010000
END:DAYLIGHT
BEGIN:STANDARD
TZOFFSETFROM:+0200
TZOFFSETTO:+0100
TZNAME:CET
DTSTART:20201025T010000
END:STANDARD
BEGIN:DAYLIGHT
TZOFFSETFROM:+0100
TZOFFSETTO:+0200
TZNAME:CEST
DTSTART:20210328T010000
END:DAYLIGHT
BEGIN:STANDARD
TZOFFSETFROM:+0200
TZOFFSETTO:+0100
TZNAME:CET
DTSTART:20211031T010000
END:STANDARD
BEGIN:DAYLIGHT
TZOFFSETFROM:+0100
TZOFFSETTO:+0200
TZNAME:CEST
DTSTART:20220327T010000
END:DAYLIGHT
BEGIN:STANDARD
TZOFFSETFROM:+0200
TZOFFSETTO:+0100
TZNAME:CET
DTSTART:20221030T010000
END:STANDARD
END:VTIMEZONE
BEGIN:VEVENT
DTSTART;VALUE=DATE:20211204
DTEND;VALUE=DATE:20211206
DTSTAMP:20260421T160053
CREATED:20200131T055617Z
LAST-MODIFIED:20211122T141956Z
UID:14601-1638658800-1638745199@www.golazo.com
SUMMARY:UCI Cyclo-cross World Cup Antwerpen
DESCRIPTION:
URL:https://www.golazo.com/event/scheldecross-2/
LOCATION:Scheldecross\, Antwerpen\, Belgium
CATEGORIES:Cycling
END:VEVENT
BEGIN:VEVENT
DTSTART;VALUE=DATE:20211229
DTEND;VALUE=DATE:20211231
DTSTAMP:20260421T160053
CREATED:20200131T060632Z
LAST-MODIFIED:20211011T085814Z
UID:14618-1640818800-1640905199@www.golazo.com
SUMMARY:X2O Trofee - Azencross
DESCRIPTION:
URL:https://www.golazo.com/event/dvv-trofee-azencross-2/
LOCATION:Azencross\, Loenhout\, Belgium
CATEGORIES:Cycling
ATTACH;FMTTYPE=image/jpeg:https://www.golazo.com/wp-content/uploads/2020/10/x2otrofee.jpg
END:VEVENT
END:VCALENDAR