BEGIN:VCALENDAR
VERSION:2.0
PRODID:-//Golazo - ECPv6.15.15//NONSGML v1.0//EN
CALSCALE:GREGORIAN
METHOD:PUBLISH
X-WR-CALNAME:Golazo
X-ORIGINAL-URL:https://www.golazo.com
X-WR-CALDESC:Events for Golazo
REFRESH-INTERVAL;VALUE=DURATION:PT1H
X-Robots-Tag:noindex
X-PUBLISHED-TTL:PT1H
BEGIN:VTIMEZONE
TZID:Europe/Brussels
BEGIN:DAYLIGHT
TZOFFSETFROM:+0100
TZOFFSETTO:+0200
TZNAME:CEST
DTSTART:20200329T010000
END:DAYLIGHT
BEGIN:STANDARD
TZOFFSETFROM:+0200
TZOFFSETTO:+0100
TZNAME:CET
DTSTART:20201025T010000
END:STANDARD
BEGIN:DAYLIGHT
TZOFFSETFROM:+0100
TZOFFSETTO:+0200
TZNAME:CEST
DTSTART:20210328T010000
END:DAYLIGHT
BEGIN:STANDARD
TZOFFSETFROM:+0200
TZOFFSETTO:+0100
TZNAME:CET
DTSTART:20211031T010000
END:STANDARD
BEGIN:DAYLIGHT
TZOFFSETFROM:+0100
TZOFFSETTO:+0200
TZNAME:CEST
DTSTART:20220327T010000
END:DAYLIGHT
BEGIN:STANDARD
TZOFFSETFROM:+0200
TZOFFSETTO:+0100
TZNAME:CET
DTSTART:20221030T010000
END:STANDARD
END:VTIMEZONE
BEGIN:VEVENT
DTSTART;VALUE=DATE:20211110
DTEND;VALUE=DATE:20211112
DTSTAMP:20260421T172059
CREATED:20200131T055726Z
LAST-MODIFIED:20211008T120733Z
UID:14603-1636585200-1636671599@www.golazo.com
SUMMARY:Jaarmarktcross Niel
DESCRIPTION:
URL:https://www.golazo.com/event/jaarmarktcross-niel-2/
LOCATION:Jaarmarktcross\, Niel\, Belgium
CATEGORIES:Cycling
ATTACH;FMTTYPE=image/png:https://www.golazo.com/wp-content/uploads/2019/05/rectavit-series-logo.png
END:VEVENT
BEGIN:VEVENT
DTSTART;VALUE=DATE:20211112
DTEND;VALUE=DATE:20211114
DTSTAMP:20260421T172059
CREATED:20200309T130827Z
LAST-MODIFIED:20211008T120821Z
UID:14867-1636758000-1636844399@www.golazo.com
SUMMARY:Ethias Cross Leuven
DESCRIPTION:
URL:https://www.golazo.com/event/ethias-cross-leuven/
LOCATION:Cyclocross Leuven\, Leuven\, Belgium
CATEGORIES:Cycling
ATTACH;FMTTYPE=image/png:https://www.golazo.com/wp-content/uploads/2019/07/ethiascross-2019.png
END:VEVENT
BEGIN:VEVENT
DTSTART;TZID=Europe/Brussels:20211116T070000
DTEND;TZID=Europe/Brussels:20211121T160000
DTSTAMP:20260421T172059
CREATED:20200108T124046Z
LAST-MODIFIED:20211008T120906Z
UID:14323-1637046000-1637510400@www.golazo.com
SUMMARY:Lotto z6sdaagse Vlaanderen
DESCRIPTION:
URL:https://www.golazo.com/event/lotto-z6sdaagse-vlaanderen/
LOCATION:Lotto Z6sdaagse Vlaanderen – Gent\, 't Kuipke\, Familie van Rysselberghedreef 2\, Gent\, 9000\, Belgium
CATEGORIES:Cycling
ATTACH;FMTTYPE=image/jpeg:https://www.golazo.com/wp-content/uploads/2019/11/eindsprintzesdaagse.jpg
END:VEVENT
END:VCALENDAR