BEGIN:VCALENDAR
VERSION:2.0
PRODID:-//Golazo - ECPv6.15.15//NONSGML v1.0//EN
CALSCALE:GREGORIAN
METHOD:PUBLISH
X-WR-CALNAME:Golazo
X-ORIGINAL-URL:https://www.golazo.com
X-WR-CALDESC:Events for Golazo
REFRESH-INTERVAL;VALUE=DURATION:PT1H
X-Robots-Tag:noindex
X-PUBLISHED-TTL:PT1H
BEGIN:VTIMEZONE
TZID:Europe/Brussels
BEGIN:DAYLIGHT
TZOFFSETFROM:+0100
TZOFFSETTO:+0200
TZNAME:CEST
DTSTART:20190331T010000
END:DAYLIGHT
BEGIN:STANDARD
TZOFFSETFROM:+0200
TZOFFSETTO:+0100
TZNAME:CET
DTSTART:20191027T010000
END:STANDARD
BEGIN:DAYLIGHT
TZOFFSETFROM:+0100
TZOFFSETTO:+0200
TZNAME:CEST
DTSTART:20200329T010000
END:DAYLIGHT
BEGIN:STANDARD
TZOFFSETFROM:+0200
TZOFFSETTO:+0100
TZNAME:CET
DTSTART:20201025T010000
END:STANDARD
BEGIN:DAYLIGHT
TZOFFSETFROM:+0100
TZOFFSETTO:+0200
TZNAME:CEST
DTSTART:20210328T010000
END:DAYLIGHT
BEGIN:STANDARD
TZOFFSETFROM:+0200
TZOFFSETTO:+0100
TZNAME:CET
DTSTART:20211031T010000
END:STANDARD
END:VTIMEZONE
BEGIN:VEVENT
DTSTART;VALUE=DATE:20200726
DTEND;VALUE=DATE:20200728
DTSTAMP:20260422T120216
CREATED:20191226T110823Z
LAST-MODIFIED:20191226T110833Z
UID:14160-1595728800-1595815199@www.golazo.com
SUMMARY:Classico Boretti
DESCRIPTION:
URL:https://www.golazo.com/event/classico-boretti-5/
LOCATION:Classico Boretti\, Grote Markt\, Herentals\, 2200\, Belgium
CATEGORIES:Cycling
ATTACH;FMTTYPE=image/png:https://www.golazo.com/wp-content/uploads/2019/12/Classico-Boretti.png
END:VEVENT
END:VCALENDAR