BEGIN:VCALENDAR
VERSION:2.0
PRODID:-//Golazo - ECPv6.15.15//NONSGML v1.0//EN
CALSCALE:GREGORIAN
METHOD:PUBLISH
X-WR-CALNAME:Golazo
X-ORIGINAL-URL:https://www.golazo.com
X-WR-CALDESC:Events for Golazo
REFRESH-INTERVAL;VALUE=DURATION:PT1H
X-Robots-Tag:noindex
X-PUBLISHED-TTL:PT1H
BEGIN:VTIMEZONE
TZID:Europe/Brussels
BEGIN:DAYLIGHT
TZOFFSETFROM:+0100
TZOFFSETTO:+0200
TZNAME:CEST
DTSTART:20190331T010000
END:DAYLIGHT
BEGIN:STANDARD
TZOFFSETFROM:+0200
TZOFFSETTO:+0100
TZNAME:CET
DTSTART:20191027T010000
END:STANDARD
BEGIN:DAYLIGHT
TZOFFSETFROM:+0100
TZOFFSETTO:+0200
TZNAME:CEST
DTSTART:20200329T010000
END:DAYLIGHT
BEGIN:STANDARD
TZOFFSETFROM:+0200
TZOFFSETTO:+0100
TZNAME:CET
DTSTART:20201025T010000
END:STANDARD
BEGIN:DAYLIGHT
TZOFFSETFROM:+0100
TZOFFSETTO:+0200
TZNAME:CEST
DTSTART:20210328T010000
END:DAYLIGHT
BEGIN:STANDARD
TZOFFSETFROM:+0200
TZOFFSETTO:+0100
TZNAME:CET
DTSTART:20211031T010000
END:STANDARD
END:VTIMEZONE
BEGIN:VEVENT
DTSTART;VALUE=DATE:20200315
DTEND;VALUE=DATE:20200317
DTSTAMP:20260422T164121
CREATED:20191127T081826Z
LAST-MODIFIED:20200305T132722Z
UID:13874-1584234000-1584320399@www.golazo.com
SUMMARY:Danilith Nokere Koerse Cyclo
DESCRIPTION:
URL:https://www.golazo.com/event/danilith-nokere-koerse-cyclo/
LOCATION:Nokere Koerse Cyclo\, Waregemsestraat\, Nokere\, Belgium
CATEGORIES:Cycling,Sports
ATTACH;FMTTYPE=image/png:https://www.golazo.com/wp-content/uploads/2018/11/logo-etixxclassicstour-pos.png
END:VEVENT
BEGIN:VEVENT
DTSTART;TZID=Europe/Brussels:20200325T090000
DTEND;TZID=Europe/Brussels:20200326T180000
DTSTAMP:20260422T164121
CREATED:20191218T085121Z
LAST-MODIFIED:20250303T191853Z
UID:14059-1585126800-1585245600@www.golazo.com
SUMMARY:The Great Sprint Classic Brugge - De Panne
DESCRIPTION:
URL:https://www.golazo.com/event/ag-driedaagse-brugge-de-panne/
LOCATION:Brugge – De Panne\, Mark Brugge\, Brugge\, 8000\, Belgium
CATEGORIES:Cycling,Sports
ATTACH;FMTTYPE=image/jpeg:https://www.golazo.com/wp-content/uploads/2019/12/intro-bg.jpg
END:VEVENT
BEGIN:VEVENT
DTSTART;VALUE=DATE:20200328
DTEND;VALUE=DATE:20200330
DTSTAMP:20260422T164121
CREATED:20191127T082026Z
LAST-MODIFIED:20191127T082026Z
UID:13878-1585357200-1585443599@www.golazo.com
SUMMARY:Gent-Wevelgem Cyclo
DESCRIPTION:
URL:https://www.golazo.com/event/gent-wevelgem-cyclo-3/
LOCATION:Gent-Wevelgem Cyclo\, Guldenbergplein\, Wevelgem\, 8560\, Belgium
CATEGORIES:Cycling,Sports
ATTACH;FMTTYPE=image/png:https://www.golazo.com/wp-content/uploads/2018/11/logo-etixxclassicstour-pos.png
END:VEVENT
BEGIN:VEVENT
DTSTART;VALUE=DATE:20200329
DTEND;VALUE=DATE:20200331
DTSTAMP:20260422T164121
CREATED:20191127T082148Z
LAST-MODIFIED:20191127T082148Z
UID:13880-1585443600-1585533599@www.golazo.com
SUMMARY:Johan Museeuw Classic
DESCRIPTION:
URL:https://www.golazo.com/event/johan-museeuw-classic-3/
LOCATION:Johan Museeuw Classic\, VTI Harelbeke\, Stasegemsesteenweg 40\, Harelbeke\, 8530\, Belgium
CATEGORIES:Cycling,Sports
ATTACH;FMTTYPE=image/png:https://www.golazo.com/wp-content/uploads/2019/05/teamleaderCCTour.png
END:VEVENT
END:VCALENDAR