BEGIN:VCALENDAR
VERSION:2.0
PRODID:-//Golazo - ECPv6.15.15//NONSGML v1.0//EN
CALSCALE:GREGORIAN
METHOD:PUBLISH
X-WR-CALNAME:Golazo
X-ORIGINAL-URL:https://www.golazo.com
X-WR-CALDESC:Events for Golazo
REFRESH-INTERVAL;VALUE=DURATION:PT1H
X-Robots-Tag:noindex
X-PUBLISHED-TTL:PT1H
BEGIN:VTIMEZONE
TZID:Europe/Brussels
BEGIN:DAYLIGHT
TZOFFSETFROM:+0100
TZOFFSETTO:+0200
TZNAME:CEST
DTSTART:20190331T010000
END:DAYLIGHT
BEGIN:STANDARD
TZOFFSETFROM:+0200
TZOFFSETTO:+0100
TZNAME:CET
DTSTART:20191027T010000
END:STANDARD
BEGIN:DAYLIGHT
TZOFFSETFROM:+0100
TZOFFSETTO:+0200
TZNAME:CEST
DTSTART:20200329T010000
END:DAYLIGHT
BEGIN:STANDARD
TZOFFSETFROM:+0200
TZOFFSETTO:+0100
TZNAME:CET
DTSTART:20201025T010000
END:STANDARD
BEGIN:DAYLIGHT
TZOFFSETFROM:+0100
TZOFFSETTO:+0200
TZNAME:CEST
DTSTART:20210328T010000
END:DAYLIGHT
BEGIN:STANDARD
TZOFFSETFROM:+0200
TZOFFSETTO:+0100
TZNAME:CET
DTSTART:20211031T010000
END:STANDARD
END:VTIMEZONE
BEGIN:VEVENT
DTSTART;VALUE=DATE:20200101
DTEND;VALUE=DATE:20200103
DTSTAMP:20260422T190639
CREATED:20190715T045308Z
LAST-MODIFIED:20191004T060049Z
UID:13128-1577840400-1577926799@www.golazo.com
SUMMARY:DVV Verzekeringen Trofee - Soudal GP Sven Nys
DESCRIPTION:
URL:https://www.golazo.com/event/dvv-verzekeringen-trofee-gp-sven-nys-3/
LOCATION:GP Sven Nys\, Baal\, Belgium
CATEGORIES:Cycling,Sport,Sports
ATTACH;FMTTYPE=image/png:https://www.golazo.com/wp-content/uploads/2019/05/gpsvennys-DVV.png
END:VEVENT
BEGIN:VEVENT
DTSTART;TZID=Europe/Brussels:20200111T090000
DTEND;TZID=Europe/Brussels:20200112T180000
DTSTAMP:20260422T190639
CREATED:20190917T102725Z
LAST-MODIFIED:20190917T102725Z
UID:13477-1578733200-1578852000@www.golazo.com
SUMMARY:BK Cyclocross
DESCRIPTION:
URL:https://www.golazo.com/event/bk-cyclocross/
LOCATION:BK Cyclocross 2020\, Antwerpen\, 2000\, Belgium
CATEGORIES:Cycling
END:VEVENT
END:VCALENDAR