BEGIN:VCALENDAR
VERSION:2.0
PRODID:-//Golazo - ECPv6.15.15//NONSGML v1.0//EN
CALSCALE:GREGORIAN
METHOD:PUBLISH
X-ORIGINAL-URL:https://www.golazo.com
X-WR-CALDESC:Events for Golazo
REFRESH-INTERVAL;VALUE=DURATION:PT1H
X-Robots-Tag:noindex
X-PUBLISHED-TTL:PT1H
BEGIN:VTIMEZONE
TZID:Europe/Brussels
BEGIN:DAYLIGHT
TZOFFSETFROM:+0100
TZOFFSETTO:+0200
TZNAME:CEST
DTSTART:20180325T010000
END:DAYLIGHT
BEGIN:STANDARD
TZOFFSETFROM:+0200
TZOFFSETTO:+0100
TZNAME:CET
DTSTART:20181028T010000
END:STANDARD
BEGIN:DAYLIGHT
TZOFFSETFROM:+0100
TZOFFSETTO:+0200
TZNAME:CEST
DTSTART:20190331T010000
END:DAYLIGHT
BEGIN:STANDARD
TZOFFSETFROM:+0200
TZOFFSETTO:+0100
TZNAME:CET
DTSTART:20191027T010000
END:STANDARD
BEGIN:DAYLIGHT
TZOFFSETFROM:+0100
TZOFFSETTO:+0200
TZNAME:CEST
DTSTART:20200329T010000
END:DAYLIGHT
BEGIN:STANDARD
TZOFFSETFROM:+0200
TZOFFSETTO:+0100
TZNAME:CET
DTSTART:20201025T010000
END:STANDARD
END:VTIMEZONE
BEGIN:VEVENT
DTSTART;VALUE=DATE:20191130
DTEND;VALUE=DATE:20191202
DTSTAMP:20260422T202437
CREATED:20190527T100050Z
LAST-MODIFIED:20191004T055915Z
UID:12939-1575075600-1575161999@www.golazo.com
SUMMARY:DVV Verzekeringen Trofee – CAPS URBAN CROSS KORTRIJK
DESCRIPTION:
URL:https://www.golazo.com/event/cyclocross-kortrijk/
LOCATION:Cyclocross Kortrijk\, Kortrijk\, Belgium
CATEGORIES:Cycling,Sport,Sports
ATTACH;FMTTYPE=image/png:https://www.golazo.com/wp-content/uploads/2019/05/UrbanCrosKortrijk-DVV2.png
END:VEVENT
BEGIN:VEVENT
DTSTART;VALUE=DATE:20191208
DTEND;VALUE=DATE:20191210
DTSTAMP:20260422T202437
CREATED:20190527T100441Z
LAST-MODIFIED:20190527T100441Z
UID:12942-1575766800-1575853199@www.golazo.com
SUMMARY:Telenet Superprestige Zonhoven
DESCRIPTION:
URL:https://www.golazo.com/event/telenet-superprestige-zonhoven/
LOCATION:Superprestige Zonhoven\, Zonhoven\, Belgium
CATEGORIES:Cycling,Sport,Sports
ATTACH;FMTTYPE=image/png:https://www.golazo.com/wp-content/uploads/2019/05/logo-9.png
END:VEVENT
BEGIN:VEVENT
DTSTART;VALUE=DATE:20191214
DTEND;VALUE=DATE:20191216
DTSTAMP:20260422T202437
CREATED:20190527T111019Z
LAST-MODIFIED:20191004T055942Z
UID:12947-1576285200-1576371599@www.golazo.com
SUMMARY:DVV Verzekeringen Trofee - Soudal Hotondcross
DESCRIPTION:
URL:https://www.golazo.com/event/hotondcross/
LOCATION:Hotondcross\, Ronse\, Belgium
CATEGORIES:Cycling,Sport,Sports
ATTACH;FMTTYPE=image/png:https://www.golazo.com/wp-content/uploads/2019/05/Hotondcross-dvv2.png
END:VEVENT
BEGIN:VEVENT
DTSTART;VALUE=DATE:20191221
DTEND;VALUE=DATE:20191223
DTSTAMP:20260422T202437
CREATED:20190527T111203Z
LAST-MODIFIED:20190827T101050Z
UID:12951-1576890000-1576976399@www.golazo.com
SUMMARY:Waaslandcross (Rectavit series)
DESCRIPTION:
URL:https://www.golazo.com/event/waaslandcross-2/
LOCATION:Waaslandcross – Sint Niklaas\, Lange Rekstraat 30\, Sint-Niklaas\, 9100\, Belgium
CATEGORIES:Cycling,Sport,Sports
ATTACH;FMTTYPE=image/png:https://www.golazo.com/wp-content/uploads/2019/05/rectavit-series-logo.png
END:VEVENT
BEGIN:VEVENT
DTSTART;VALUE=DATE:20191222
DTEND;VALUE=DATE:20191224
DTSTAMP:20260422T202437
CREATED:20190913T055115Z
LAST-MODIFIED:20190913T055115Z
UID:13431-1576976400-1577062799@www.golazo.com
SUMMARY:UCI Cyclocross World Cup Namur
DESCRIPTION:
URL:https://www.golazo.com/event/uci-cyclocross-world-cup-namur/
LOCATION:UCI World Cup Cyclo Cross Namur\, Citadel van Namen\, Rte Merveilleuse 64\, Namen\, Namur\, 5000\, Belgium
CATEGORIES:Cycling
ATTACH;FMTTYPE=image/png:https://www.golazo.com/wp-content/uploads/2019/09/logo.png
END:VEVENT
BEGIN:VEVENT
DTSTART;VALUE=DATE:20191227
DTEND;VALUE=DATE:20191229
DTSTAMP:20260422T202437
CREATED:20191227T113618Z
LAST-MODIFIED:20191227T113618Z
UID:14178-1577408400-1577494799@www.golazo.com
SUMMARY:Sven Nys Classic
DESCRIPTION:
URL:https://www.golazo.com/event/sven-nys-classic-4/
LOCATION:Sven Nys Classic\, Balenbergstraatje\, Baal\, 3128\, Belgium
CATEGORIES:Cycling,Sport
END:VEVENT
BEGIN:VEVENT
DTSTART;TZID=Europe/Brussels:20191230T090000
DTEND;TZID=Europe/Brussels:20191230T180000
DTSTAMP:20260422T202437
CREATED:20190715T052618Z
LAST-MODIFIED:20190715T052618Z
UID:13158-1577696400-1577728800@www.golazo.com
SUMMARY:Cyclocross Bredene (Ethias Cross)
DESCRIPTION:
URL:https://www.golazo.com/event/cyclocross-bredene-ethias-cross/
LOCATION:Cyclocross Bredene\, Duinenstraat 169\, Bredene\, 8450\, Belgium
CATEGORIES:Cycling,Sport,Sports
ATTACH;FMTTYPE=image/png:https://www.golazo.com/wp-content/uploads/2019/07/ethiascross-2019.png
END:VEVENT
END:VCALENDAR