BEGIN:VCALENDAR
VERSION:2.0
PRODID:-//Golazo - ECPv6.15.15//NONSGML v1.0//EN
CALSCALE:GREGORIAN
METHOD:PUBLISH
X-ORIGINAL-URL:https://www.golazo.com
X-WR-CALDESC:Events for Golazo
REFRESH-INTERVAL;VALUE=DURATION:PT1H
X-Robots-Tag:noindex
X-PUBLISHED-TTL:PT1H
BEGIN:VTIMEZONE
TZID:Europe/Brussels
BEGIN:DAYLIGHT
TZOFFSETFROM:+0100
TZOFFSETTO:+0200
TZNAME:CEST
DTSTART:20180325T010000
END:DAYLIGHT
BEGIN:STANDARD
TZOFFSETFROM:+0200
TZOFFSETTO:+0100
TZNAME:CET
DTSTART:20181028T010000
END:STANDARD
BEGIN:DAYLIGHT
TZOFFSETFROM:+0100
TZOFFSETTO:+0200
TZNAME:CEST
DTSTART:20190331T010000
END:DAYLIGHT
BEGIN:STANDARD
TZOFFSETFROM:+0200
TZOFFSETTO:+0100
TZNAME:CET
DTSTART:20191027T010000
END:STANDARD
BEGIN:DAYLIGHT
TZOFFSETFROM:+0100
TZOFFSETTO:+0200
TZNAME:CEST
DTSTART:20200329T010000
END:DAYLIGHT
BEGIN:STANDARD
TZOFFSETFROM:+0200
TZOFFSETTO:+0100
TZNAME:CET
DTSTART:20201025T010000
END:STANDARD
END:VTIMEZONE
BEGIN:VEVENT
DTSTART;VALUE=DATE:20190804
DTEND;VALUE=DATE:20190806
DTSTAMP:20260423T012510
CREATED:20190523T112844Z
LAST-MODIFIED:20190523T112915Z
UID:12739-1564884000-1564970399@www.golazo.com
SUMMARY:Classico Boretti
DESCRIPTION:
URL:https://www.golazo.com/event/classico-boretti-4/
LOCATION:Classico Boretti\, Grote Markt\, Herentals\, 2200\, Belgium
CATEGORIES:Cycling,Sport,Sports
ATTACH;FMTTYPE=image/png:https://www.golazo.com/wp-content/uploads/2019/05/ClassicoBoretti-2019.png
END:VEVENT
BEGIN:VEVENT
DTSTART;VALUE=DATE:20190810
DTEND;VALUE=DATE:20190812
DTSTAMP:20260423T012510
CREATED:20190523T113219Z
LAST-MODIFIED:20190523T113418Z
UID:12744-1565402400-1565488799@www.golazo.com
SUMMARY:Bon-Secours Cyclo
DESCRIPTION:
URL:https://www.golazo.com/event/bon-secours-cyclo/
LOCATION:Bon Secours Classic\, Rue des Laminoirs 2\, Mons\, 7012\, Belgium
CATEGORIES:Cycling,Sport,Sports
ATTACH;FMTTYPE=image/jpeg:https://www.golazo.com/wp-content/uploads/2018/11/logo-proximuscyclingchallenge.jpg
END:VEVENT
BEGIN:VEVENT
DTSTART;TZID=Europe/Brussels:20190811T100000
DTEND;TZID=Europe/Brussels:20190818T200000
DTSTAMP:20260423T012510
CREATED:20190523T113918Z
LAST-MODIFIED:20190523T113918Z
UID:12750-1565517600-1566158400@www.golazo.com
SUMMARY:BinckBank Tour - UCI World Tour
DESCRIPTION:bin
URL:https://www.golazo.com/event/binckbank-tour-uci-world-tour/
LOCATION:BinckBank Tour\, Belgium
CATEGORIES:Cycling,Sport,Sports
ATTACH;FMTTYPE=image/png:https://www.golazo.com/wp-content/uploads/2019/05/binckbcanktour-2019.png
END:VEVENT
BEGIN:VEVENT
DTSTART;VALUE=DATE:20190825
DTEND;VALUE=DATE:20190827
DTSTAMP:20260423T012510
CREATED:20190523T085435Z
LAST-MODIFIED:20190523T085435Z
UID:12730-1566698400-1566784799@www.golazo.com
SUMMARY:Marmotte Granfondo Pyrenees
DESCRIPTION:
URL:https://www.golazo.com/event/marmotte-granfondo-pyrenees/
LOCATION:Marmotte Pyrénées\, Argelès-Gazost\, France
CATEGORIES:Cycling,Sport,Sports
ATTACH;FMTTYPE=image/png:https://www.golazo.com/wp-content/uploads/2019/05/Marmotte-Pyre-19.png
END:VEVENT
BEGIN:VEVENT
DTSTART;TZID=Europe/Brussels:20190829T100000
DTEND;TZID=Europe/Brussels:20190831T190000
DTSTAMP:20260423T012510
CREATED:20190523T114859Z
LAST-MODIFIED:20190523T114859Z
UID:12763-1567072800-1567278000@www.golazo.com
SUMMARY:Climbing for Life
DESCRIPTION:
URL:https://www.golazo.com/event/climbing-for-life-6/
LOCATION:Climbing for Life\, Huez\, 38750\, France
CATEGORIES:Cycling,Sport,Sports
ATTACH;FMTTYPE=image/png:https://www.golazo.com/wp-content/uploads/2019/05/cfl-logo.png
END:VEVENT
BEGIN:VEVENT
DTSTART;VALUE=DATE:20190831
DTEND;VALUE=DATE:20190902
DTSTAMP:20260423T012510
CREATED:20190523T115155Z
LAST-MODIFIED:20190523T115155Z
UID:12769-1567216800-1567303199@www.golazo.com
SUMMARY:Sven Nys Classic
DESCRIPTION:
URL:https://www.golazo.com/event/sven-nys-classic-3/
LOCATION:Sven Nys Classic\, Balenbergstraatje\, Baal\, 3128\, Belgium
CATEGORIES:Cycling,Sport,Sports
ATTACH;FMTTYPE=image/png:https://www.golazo.com/wp-content/uploads/2019/05/teamleaderCCTour.png
END:VEVENT
END:VCALENDAR