BEGIN:VCALENDAR
VERSION:2.0
PRODID:-//Golazo - ECPv6.15.15//NONSGML v1.0//EN
CALSCALE:GREGORIAN
METHOD:PUBLISH
X-ORIGINAL-URL:https://www.golazo.com
X-WR-CALDESC:Events for Golazo
REFRESH-INTERVAL;VALUE=DURATION:PT1H
X-Robots-Tag:noindex
X-PUBLISHED-TTL:PT1H
BEGIN:VTIMEZONE
TZID:Europe/Brussels
BEGIN:DAYLIGHT
TZOFFSETFROM:+0100
TZOFFSETTO:+0200
TZNAME:CEST
DTSTART:20180325T010000
END:DAYLIGHT
BEGIN:STANDARD
TZOFFSETFROM:+0200
TZOFFSETTO:+0100
TZNAME:CET
DTSTART:20181028T010000
END:STANDARD
BEGIN:DAYLIGHT
TZOFFSETFROM:+0100
TZOFFSETTO:+0200
TZNAME:CEST
DTSTART:20190331T010000
END:DAYLIGHT
BEGIN:STANDARD
TZOFFSETFROM:+0200
TZOFFSETTO:+0100
TZNAME:CET
DTSTART:20191027T010000
END:STANDARD
BEGIN:DAYLIGHT
TZOFFSETFROM:+0100
TZOFFSETTO:+0200
TZNAME:CEST
DTSTART:20200329T010000
END:DAYLIGHT
BEGIN:STANDARD
TZOFFSETFROM:+0200
TZOFFSETTO:+0100
TZNAME:CET
DTSTART:20201025T010000
END:STANDARD
END:VTIMEZONE
BEGIN:VEVENT
DTSTART;VALUE=DATE:20190630
DTEND;VALUE=DATE:20190702
DTSTAMP:20260423T023748
CREATED:20190214T124756Z
LAST-MODIFIED:20190214T124756Z
UID:11751-1561860000-1561946399@www.golazo.com
SUMMARY:La Vaujany
DESCRIPTION:
URL:https://www.golazo.com/event/la-vaujany-2/
LOCATION:La Vaujany\, Vaujany\, France
CATEGORIES:Cycling,Sport
ATTACH;FMTTYPE=image/png:https://www.golazo.com/wp-content/uploads/2019/02/vaujany-19.png
END:VEVENT
BEGIN:VEVENT
DTSTART;VALUE=DATE:20190706
DTEND;VALUE=DATE:20190708
DTSTAMP:20260423T023748
CREATED:20190523T084501Z
LAST-MODIFIED:20190523T084501Z
UID:12717-1562378400-1562464799@www.golazo.com
SUMMARY:La Rando des Marmottes
DESCRIPTION:
URL:https://www.golazo.com/event/la-rando-des-marmottes/
LOCATION:La rando des Marmottes ( 2 jours )\, Bourg d'Oisans\, France
CATEGORIES:Cycling,Sport,Sports
ATTACH;FMTTYPE=image/png:https://www.golazo.com/wp-content/uploads/2019/05/Rando-Marmotte-Alpes-2019-Logo.png
END:VEVENT
END:VCALENDAR