BEGIN:VCALENDAR
VERSION:2.0
PRODID:-//Golazo - ECPv6.15.15//NONSGML v1.0//EN
CALSCALE:GREGORIAN
METHOD:PUBLISH
X-WR-CALNAME:Golazo
X-ORIGINAL-URL:https://www.golazo.com
X-WR-CALDESC:Events for Golazo
REFRESH-INTERVAL;VALUE=DURATION:PT1H
X-Robots-Tag:noindex
X-PUBLISHED-TTL:PT1H
BEGIN:VTIMEZONE
TZID:Europe/Brussels
BEGIN:DAYLIGHT
TZOFFSETFROM:+0100
TZOFFSETTO:+0200
TZNAME:CEST
DTSTART:20180325T010000
END:DAYLIGHT
BEGIN:STANDARD
TZOFFSETFROM:+0200
TZOFFSETTO:+0100
TZNAME:CET
DTSTART:20181028T010000
END:STANDARD
BEGIN:DAYLIGHT
TZOFFSETFROM:+0100
TZOFFSETTO:+0200
TZNAME:CEST
DTSTART:20190331T010000
END:DAYLIGHT
BEGIN:STANDARD
TZOFFSETFROM:+0200
TZOFFSETTO:+0100
TZNAME:CET
DTSTART:20191027T010000
END:STANDARD
BEGIN:DAYLIGHT
TZOFFSETFROM:+0100
TZOFFSETTO:+0200
TZNAME:CEST
DTSTART:20200329T010000
END:DAYLIGHT
BEGIN:STANDARD
TZOFFSETFROM:+0200
TZOFFSETTO:+0100
TZNAME:CET
DTSTART:20201025T010000
END:STANDARD
END:VTIMEZONE
BEGIN:VEVENT
DTSTART;VALUE=DATE:20190505
DTEND;VALUE=DATE:20190507
DTSTAMP:20260423T050517
CREATED:20190211T122532Z
LAST-MODIFIED:20190211T122532Z
UID:11649-1557021600-1557107999@www.golazo.com
SUMMARY:Tour de Namur Cyclo
DESCRIPTION:
URL:https://www.golazo.com/event/tour-de-namur-cyclo-7/
LOCATION:Centre Sportif de Floreffe\, Rue Joseph Hanse 6\, Floreffe\, 5150\, Belgium
CATEGORIES:Cycling,Sport
ATTACH;FMTTYPE=image/jpeg:https://www.golazo.com/wp-content/uploads/2018/11/logo-proximuscyclingchallenge.jpg
END:VEVENT
BEGIN:VEVENT
DTSTART;VALUE=DATE:20190511
DTEND;VALUE=DATE:20190513
DTSTAMP:20260423T050517
CREATED:20190211T122622Z
LAST-MODIFIED:20190211T122622Z
UID:11651-1557540000-1557626399@www.golazo.com
SUMMARY:Grinta! Challenge
DESCRIPTION:
URL:https://www.golazo.com/event/grinta-challenge-7/
LOCATION:Grinta! Challenge\, Tournai\, Belgium
CATEGORIES:Cycling,Sport
ATTACH;FMTTYPE=image/jpeg:https://www.golazo.com/wp-content/uploads/2018/11/logo-proximuscyclingchallenge.jpg
END:VEVENT
BEGIN:VEVENT
DTSTART;VALUE=DATE:20190512
DTEND;VALUE=DATE:20190514
DTSTAMP:20260423T050517
CREATED:20190506T103112Z
LAST-MODIFIED:20190506T103112Z
UID:12575-1557626400-1557712799@www.golazo.com
SUMMARY:Greg Van Avermaet Classic
DESCRIPTION:
URL:https://www.golazo.com/event/greg-van-avermaet-classic-3/
LOCATION:Greg Van Avermaet Classic\, Berlare\, Belgium
CATEGORIES:Cycling,Sport,Sports
ATTACH;FMTTYPE=image/png:https://www.golazo.com/wp-content/uploads/2019/04/championstour-logo.png
END:VEVENT
BEGIN:VEVENT
DTSTART;VALUE=DATE:20190519
DTEND;VALUE=DATE:20190521
DTSTAMP:20260423T050517
CREATED:20190214T123447Z
LAST-MODIFIED:20190214T123447Z
UID:11730-1558231200-1558317599@www.golazo.com
SUMMARY:La Ronde Tahitienne
DESCRIPTION:
URL:https://www.golazo.com/event/la-ronde-tahitienne/
LOCATION:La Ronde Tahitienne\, Avenue du Général de Gaulle\, French Polynesia
CATEGORIES:Cycling,Sport
ATTACH;FMTTYPE=image/png:https://www.golazo.com/wp-content/uploads/2019/02/tahitienne-19-logo.png
END:VEVENT
BEGIN:VEVENT
DTSTART;VALUE=DATE:20190519
DTEND;VALUE=DATE:20190521
DTSTAMP:20260423T050517
CREATED:20190214T123843Z
LAST-MODIFIED:20190214T123843Z
UID:11734-1558231200-1558317599@www.golazo.com
SUMMARY:Granfondo Vosges
DESCRIPTION:
URL:https://www.golazo.com/event/granfondo-vosges/
LOCATION:Granfondo Vosges\, Route de Vologne\, LA BRESSE HOHNECK\, France
CATEGORIES:Cycling,Sport
ATTACH;FMTTYPE=image/png:https://www.golazo.com/wp-content/uploads/2019/02/vosges-19.png
END:VEVENT
BEGIN:VEVENT
DTSTART;VALUE=DATE:20190525
DTEND;VALUE=DATE:20190527
DTSTAMP:20260423T050517
CREATED:20190211T122804Z
LAST-MODIFIED:20190211T122804Z
UID:11655-1558749600-1558835999@www.golazo.com
SUMMARY:Landen - Trois-Ponts - Landen
DESCRIPTION:
URL:https://www.golazo.com/event/landen-trois-ponts-landen-2/
LOCATION:Sporthal Landen\, Sportlaan\, Landen\, 3400\, Belgium
CATEGORIES:Cycling,Sport
ATTACH;FMTTYPE=image/jpeg:https://www.golazo.com/wp-content/uploads/2018/11/logo-proximuscyclingchallenge.jpg
END:VEVENT
END:VCALENDAR