BEGIN:VCALENDAR
VERSION:2.0
PRODID:-//Golazo - ECPv6.15.15//NONSGML v1.0//EN
CALSCALE:GREGORIAN
METHOD:PUBLISH
X-ORIGINAL-URL:https://www.golazo.com
X-WR-CALDESC:Events for Golazo
REFRESH-INTERVAL;VALUE=DURATION:PT1H
X-Robots-Tag:noindex
X-PUBLISHED-TTL:PT1H
BEGIN:VTIMEZONE
TZID:Europe/Brussels
BEGIN:DAYLIGHT
TZOFFSETFROM:+0100
TZOFFSETTO:+0200
TZNAME:CEST
DTSTART:20180325T010000
END:DAYLIGHT
BEGIN:STANDARD
TZOFFSETFROM:+0200
TZOFFSETTO:+0100
TZNAME:CET
DTSTART:20181028T010000
END:STANDARD
BEGIN:DAYLIGHT
TZOFFSETFROM:+0100
TZOFFSETTO:+0200
TZNAME:CEST
DTSTART:20190331T010000
END:DAYLIGHT
BEGIN:STANDARD
TZOFFSETFROM:+0200
TZOFFSETTO:+0100
TZNAME:CET
DTSTART:20191027T010000
END:STANDARD
BEGIN:DAYLIGHT
TZOFFSETFROM:+0100
TZOFFSETTO:+0200
TZNAME:CEST
DTSTART:20200329T010000
END:DAYLIGHT
BEGIN:STANDARD
TZOFFSETFROM:+0200
TZOFFSETTO:+0100
TZNAME:CET
DTSTART:20201025T010000
END:STANDARD
END:VTIMEZONE
BEGIN:VEVENT
DTSTART;VALUE=DATE:20190209
DTEND;VALUE=DATE:20190211
DTSTAMP:20260423T082027
CREATED:20180914T111828Z
LAST-MODIFIED:20181214T125328Z
UID:9090-1549674000-1549760399@www.golazo.com
SUMMARY:DVV verzekeringen Trofee - Krawatencross (Lille)
DESCRIPTION:
URL:https://www.golazo.com/event/dvv-verzekeringen-trofee-krawatencross-lille/
LOCATION:Krawatencross\, Lille\, Belgium
CATEGORIES:Cycling,Sport
ATTACH;FMTTYPE=:
END:VEVENT
BEGIN:VEVENT
DTSTART;VALUE=DATE:20190220
DTEND;VALUE=DATE:20190222
DTSTAMP:20260423T082027
CREATED:20180914T112356Z
LAST-MODIFIED:20190211T061056Z
UID:9100-1550624400-1550710799@www.golazo.com
SUMMARY:Soudal Classics - Soudal CC Masters (Waregem)
DESCRIPTION:
URL:https://www.golazo.com/event/soudal-classics-soudal-cc-masters-waregem/
LOCATION:Cyclocross Masters\, Waregem\, Belgium
CATEGORIES:Cycling,Sport
ATTACH;FMTTYPE=image/png:https://www.golazo.com/wp-content/uploads/2018/09/fb-logo.png
END:VEVENT
BEGIN:VEVENT
DTSTART;VALUE=DATE:20190223
DTEND;VALUE=DATE:20190225
DTSTAMP:20260423T082027
CREATED:20180914T112442Z
LAST-MODIFIED:20190211T061206Z
UID:9102-1550883600-1550969999@www.golazo.com
SUMMARY:Soudal Classics - Soudal CC Leuven
DESCRIPTION:
URL:https://www.golazo.com/event/soudal-classics-soudal-cc-leuven/
LOCATION:Cyclocross Leuven\, Leuven\, Belgium
CATEGORIES:Cycling,Sport
ATTACH;FMTTYPE=image/png:https://www.golazo.com/wp-content/uploads/2018/09/fb-logo-1.png
END:VEVENT
BEGIN:VEVENT
DTSTART;VALUE=DATE:20190224
DTEND;VALUE=DATE:20190226
DTSTAMP:20260423T082027
CREATED:20181123T063354Z
LAST-MODIFIED:20181214T125325Z
UID:9330-1550970000-1551056399@www.golazo.com
SUMMARY:DVV Verzekeringen Trofee Slotgala
DESCRIPTION:
URL:https://www.golazo.com/event/dvv-verzekeringen-trofee-slotgala/
LOCATION:DVV slotgala\, Antwerpen\, 2000\, Belgium
CATEGORIES:Cycling
ATTACH;FMTTYPE=:
END:VEVENT
END:VCALENDAR