BEGIN:VCALENDAR
VERSION:2.0
PRODID:-//Golazo - ECPv6.15.15//NONSGML v1.0//EN
CALSCALE:GREGORIAN
METHOD:PUBLISH
X-WR-CALNAME:Golazo
X-ORIGINAL-URL:https://www.golazo.com
X-WR-CALDESC:Events for Golazo
REFRESH-INTERVAL;VALUE=DURATION:PT1H
X-Robots-Tag:noindex
X-PUBLISHED-TTL:PT1H
BEGIN:VTIMEZONE
TZID:Europe/Brussels
BEGIN:DAYLIGHT
TZOFFSETFROM:+0100
TZOFFSETTO:+0200
TZNAME:CEST
DTSTART:20170326T010000
END:DAYLIGHT
BEGIN:STANDARD
TZOFFSETFROM:+0200
TZOFFSETTO:+0100
TZNAME:CET
DTSTART:20171029T010000
END:STANDARD
BEGIN:DAYLIGHT
TZOFFSETFROM:+0100
TZOFFSETTO:+0200
TZNAME:CEST
DTSTART:20180325T010000
END:DAYLIGHT
BEGIN:STANDARD
TZOFFSETFROM:+0200
TZOFFSETTO:+0100
TZNAME:CET
DTSTART:20181028T010000
END:STANDARD
BEGIN:DAYLIGHT
TZOFFSETFROM:+0100
TZOFFSETTO:+0200
TZNAME:CEST
DTSTART:20190331T010000
END:DAYLIGHT
BEGIN:STANDARD
TZOFFSETFROM:+0200
TZOFFSETTO:+0100
TZNAME:CET
DTSTART:20191027T010000
END:STANDARD
END:VTIMEZONE
BEGIN:VEVENT
DTSTART;VALUE=DATE:20181101
DTEND;VALUE=DATE:20181103
DTSTAMP:20260423T120711
CREATED:20180914T110839Z
LAST-MODIFIED:20181214T125329Z
UID:9071-1541034000-1541120399@www.golazo.com
SUMMARY:DVV verzekeringen Trofee - Koppenbergcross
DESCRIPTION:
URL:https://www.golazo.com/event/dvv-verzekeringen-trofee-koppenbergcross/
LOCATION:Koppenbergcross\, Oudenaarde\, 9700\, Belgium
CATEGORIES:Cycling
ATTACH;FMTTYPE=:
END:VEVENT
BEGIN:VEVENT
DTSTART;VALUE=DATE:20181110
DTEND;VALUE=DATE:20181112
DTSTAMP:20260423T120711
CREATED:20180914T111034Z
LAST-MODIFIED:20181214T125329Z
UID:9073-1541811600-1541897999@www.golazo.com
SUMMARY:DVV verzekeringen Trofee - Jaarmarktcross (Niel)
DESCRIPTION:
URL:https://www.golazo.com/event/dvv-verzekeringen-trofee-jaarmarktcross-niel/
LOCATION:Jaarmarktcross\, Niel\, Belgium
CATEGORIES:Cycling,Sport
ATTACH;FMTTYPE=:
END:VEVENT
BEGIN:VEVENT
DTSTART;TZID=Europe/Brussels:20181113T200000
DTEND;TZID=Europe/Brussels:20181118T210000
DTSTAMP:20260423T120711
CREATED:20180917T065111Z
LAST-MODIFIED:20181214T125327Z
UID:9127-1542139200-1542574800@www.golazo.com
SUMMARY:Lotto Zesdaagse Vlaanderen-Gent
DESCRIPTION:
URL:https://www.golazo.com/event/lotto-zesdaagse-vlaanderen-gent-2/
LOCATION:Lotto Z6sdaagse Vlaanderen – Gent\, 't Kuipke\, Familie van Rysselberghedreef 2\, Gent\, 9000\, Belgium
CATEGORIES:Cycling,Sport
ATTACH;FMTTYPE=:
END:VEVENT
BEGIN:VEVENT
DTSTART;VALUE=DATE:20181118
DTEND;VALUE=DATE:20181120
DTSTAMP:20260423T120711
CREATED:20180914T111114Z
LAST-MODIFIED:20181214T125329Z
UID:9075-1542502800-1542589199@www.golazo.com
SUMMARY:DVV verzekeringen Trofee - Flandriencross (Hamme)
DESCRIPTION:
URL:https://www.golazo.com/event/dvv-verzekeringen-trofee/
LOCATION:Flandriencross\, Hamme\, 9220\, Belgium
CATEGORIES:Cycling,Sport
ATTACH;FMTTYPE=:
END:VEVENT
END:VCALENDAR