BEGIN:VCALENDAR
VERSION:2.0
PRODID:-//Golazo - ECPv6.15.15//NONSGML v1.0//EN
CALSCALE:GREGORIAN
METHOD:PUBLISH
X-WR-CALNAME:Golazo
X-ORIGINAL-URL:https://www.golazo.com
X-WR-CALDESC:Events for Golazo
REFRESH-INTERVAL;VALUE=DURATION:PT1H
X-Robots-Tag:noindex
X-PUBLISHED-TTL:PT1H
BEGIN:VTIMEZONE
TZID:Europe/Brussels
BEGIN:DAYLIGHT
TZOFFSETFROM:+0100
TZOFFSETTO:+0200
TZNAME:CEST
DTSTART:20170326T010000
END:DAYLIGHT
BEGIN:STANDARD
TZOFFSETFROM:+0200
TZOFFSETTO:+0100
TZNAME:CET
DTSTART:20171029T010000
END:STANDARD
BEGIN:DAYLIGHT
TZOFFSETFROM:+0100
TZOFFSETTO:+0200
TZNAME:CEST
DTSTART:20180325T010000
END:DAYLIGHT
BEGIN:STANDARD
TZOFFSETFROM:+0200
TZOFFSETTO:+0100
TZNAME:CET
DTSTART:20181028T010000
END:STANDARD
BEGIN:DAYLIGHT
TZOFFSETFROM:+0100
TZOFFSETTO:+0200
TZNAME:CEST
DTSTART:20190331T010000
END:DAYLIGHT
BEGIN:STANDARD
TZOFFSETFROM:+0200
TZOFFSETTO:+0100
TZNAME:CET
DTSTART:20191027T010000
END:STANDARD
END:VTIMEZONE
BEGIN:VEVENT
DTSTART;VALUE=DATE:20180602
DTEND;VALUE=DATE:20180604
DTSTAMP:20260423T180748
CREATED:20180327T053922Z
LAST-MODIFIED:20181214T125337Z
UID:8264-1527904800-1527991199@www.golazo.com
SUMMARY:La Chouffe Classic
DESCRIPTION:
URL:https://www.golazo.com/event/la-chouffe-classic-7/
LOCATION:La Chouffe Classic\, Houffalize\, Belgium
CATEGORIES:Cycling
ATTACH;FMTTYPE=:
END:VEVENT
BEGIN:VEVENT
DTSTART;VALUE=DATE:20180609
DTEND;VALUE=DATE:20180611
DTSTAMP:20260423T180748
CREATED:20180327T054309Z
LAST-MODIFIED:20181214T125336Z
UID:8268-1528509600-1528595999@www.golazo.com
SUMMARY:Serge Baguet Classic
DESCRIPTION:
URL:https://www.golazo.com/event/serge-baguet-classic/
CATEGORIES:Cycling
ATTACH;FMTTYPE=:
END:VEVENT
BEGIN:VEVENT
DTSTART;TZID=Europe/Brussels:20180609T100000
DTEND;TZID=Europe/Brussels:20180610T190000
DTSTAMP:20260423T180748
CREATED:20180327T055001Z
LAST-MODIFIED:20181214T125336Z
UID:8275-1528538400-1528657200@www.golazo.com
SUMMARY:Ronde van Vlaanderen Retro
DESCRIPTION:
URL:https://www.golazo.com/event/ronde-van-vlaanderen-retro/
CATEGORIES:Cycling
ATTACH;FMTTYPE=:
END:VEVENT
BEGIN:VEVENT
DTSTART;TZID=Europe/Brussels:20180614T100000
DTEND;TZID=Europe/Brussels:20180616T190000
DTSTAMP:20260423T180748
CREATED:20180327T073542Z
LAST-MODIFIED:20181214T125336Z
UID:8280-1528970400-1529175600@www.golazo.com
SUMMARY:Passo dello Stelvio
DESCRIPTION:
URL:https://www.golazo.com/event/passo-dello-stelvio-5/
LOCATION:Passo Dello Stelvio\, Bormio\, Italy
CATEGORIES:Cycling
ATTACH;FMTTYPE=:
END:VEVENT
BEGIN:VEVENT
DTSTART;VALUE=DATE:20180616
DTEND;VALUE=DATE:20180618
DTSTAMP:20260423T180748
CREATED:20180327T100238Z
LAST-MODIFIED:20181214T125336Z
UID:8285-1529114400-1529200799@www.golazo.com
SUMMARY:Elfstedenronde Cyclo
DESCRIPTION:
URL:https://www.golazo.com/event/elfstedenronde-cyclo-2/
CATEGORIES:Cycling
ATTACH;FMTTYPE=:
END:VEVENT
BEGIN:VEVENT
DTSTART;VALUE=DATE:20180621
DTEND;VALUE=DATE:20180623
DTSTAMP:20260423T180748
CREATED:20171107T132203Z
LAST-MODIFIED:20181214T125341Z
UID:7897-1529546400-1529632799@www.golazo.com
SUMMARY:Midzomerride
DESCRIPTION:
URL:https://www.golazo.com/event/midzomerride/
CATEGORIES:Cycling
END:VEVENT
BEGIN:VEVENT
DTSTART;VALUE=DATE:20180624
DTEND;VALUE=DATE:20180626
DTSTAMP:20260423T180748
CREATED:20180529T052402Z
LAST-MODIFIED:20181214T125334Z
UID:8517-1529805600-1529891999@www.golazo.com
SUMMARY:Eddy Merckx Classic
DESCRIPTION:
URL:https://www.golazo.com/event/eddy-merckx-classic-2/
CATEGORIES:Cycling
ATTACH;FMTTYPE=:
END:VEVENT
BEGIN:VEVENT
DTSTART;VALUE=DATE:20180627
DTEND;VALUE=DATE:20180629
DTSTAMP:20260423T180748
CREATED:20171107T132340Z
LAST-MODIFIED:20181214T125341Z
UID:7903-1530064800-1530151199@www.golazo.com
SUMMARY:NK Wielrennen - Tijdrit
DESCRIPTION:
URL:https://www.golazo.com/event/nk-tijdrit/
LOCATION:Bergen op Zoom\, Netherlands
CATEGORIES:Cycling
ATTACH;FMTTYPE=:
END:VEVENT
BEGIN:VEVENT
DTSTART;VALUE=DATE:20180630
DTEND;VALUE=DATE:20180702
DTSTAMP:20260423T180748
CREATED:20171107T133022Z
LAST-MODIFIED:20181214T125341Z
UID:7905-1530324000-1530410399@www.golazo.com
SUMMARY:NK Wielrennen Toertocht
DESCRIPTION:
URL:https://www.golazo.com/event/nk-tourtocht/
LOCATION:NK Tourtocht\, Bergen op Zoom\, Netherlands
CATEGORIES:Cycling
ATTACH;FMTTYPE=:
END:VEVENT
END:VCALENDAR