BEGIN:VCALENDAR
VERSION:2.0
PRODID:-//Golazo - ECPv6.15.15//NONSGML v1.0//EN
CALSCALE:GREGORIAN
METHOD:PUBLISH
X-WR-CALNAME:Golazo
X-ORIGINAL-URL:https://www.golazo.com
X-WR-CALDESC:Events for Golazo
REFRESH-INTERVAL;VALUE=DURATION:PT1H
X-Robots-Tag:noindex
X-PUBLISHED-TTL:PT1H
BEGIN:VTIMEZONE
TZID:Europe/Brussels
BEGIN:DAYLIGHT
TZOFFSETFROM:+0100
TZOFFSETTO:+0200
TZNAME:CEST
DTSTART:20170326T010000
END:DAYLIGHT
BEGIN:STANDARD
TZOFFSETFROM:+0200
TZOFFSETTO:+0100
TZNAME:CET
DTSTART:20171029T010000
END:STANDARD
BEGIN:DAYLIGHT
TZOFFSETFROM:+0100
TZOFFSETTO:+0200
TZNAME:CEST
DTSTART:20180325T010000
END:DAYLIGHT
BEGIN:STANDARD
TZOFFSETFROM:+0200
TZOFFSETTO:+0100
TZNAME:CET
DTSTART:20181028T010000
END:STANDARD
BEGIN:DAYLIGHT
TZOFFSETFROM:+0100
TZOFFSETTO:+0200
TZNAME:CEST
DTSTART:20190331T010000
END:DAYLIGHT
BEGIN:STANDARD
TZOFFSETFROM:+0200
TZOFFSETTO:+0100
TZNAME:CET
DTSTART:20191027T010000
END:STANDARD
END:VTIMEZONE
BEGIN:VEVENT
DTSTART;VALUE=DATE:20180331
DTEND;VALUE=DATE:20180402
DTSTAMP:20260423T202148
CREATED:20171113T063646Z
LAST-MODIFIED:20181214T125341Z
UID:7915-1522461600-1522547999@www.golazo.com
SUMMARY:We Ride Flanders
DESCRIPTION:
URL:https://www.golazo.com/event/we-ride-flanders/
CATEGORIES:Cycling
ATTACH;FMTTYPE=:
END:VEVENT
BEGIN:VEVENT
DTSTART;VALUE=DATE:20180407
DTEND;VALUE=DATE:20180409
DTSTAMP:20260423T202148
CREATED:20180221T070639Z
LAST-MODIFIED:20181214T125339Z
UID:8105-1523066400-1523152799@www.golazo.com
SUMMARY:Paris-Roubaix Challenge
DESCRIPTION:
URL:https://www.golazo.com/event/paris-roubaix-challenge-6/
LOCATION:Paris-Roubaix Challenge\, Busigny - Roubaix\, France
CATEGORIES:Cycling
ATTACH;FMTTYPE=:
END:VEVENT
BEGIN:VEVENT
DTSTART;VALUE=DATE:20180415
DTEND;VALUE=DATE:20180417
DTSTAMP:20260423T202148
CREATED:20180221T071432Z
LAST-MODIFIED:20181214T125338Z
UID:8121-1523757600-1523843999@www.golazo.com
SUMMARY:Peter van Petegem Classic
DESCRIPTION:
URL:https://www.golazo.com/event/peter-van-petegem-classic-6/
LOCATION:Ontmoetingscentrum de Lier\, Nieuwstraat 21\,\, Lierde\, 9570\, Belgium
CATEGORIES:Cycling
ATTACH;FMTTYPE=:
END:VEVENT
BEGIN:VEVENT
DTSTART;VALUE=DATE:20180421
DTEND;VALUE=DATE:20180423
DTSTAMP:20260423T202148
CREATED:20180221T071758Z
LAST-MODIFIED:20181214T125338Z
UID:8125-1524276000-1524362399@www.golazo.com
SUMMARY:Etixx Classic
DESCRIPTION:
URL:https://www.golazo.com/event/etixx-classic/
CATEGORIES:Cycling
ATTACH;FMTTYPE=:
END:VEVENT
BEGIN:VEVENT
DTSTART;VALUE=DATE:20180428
DTEND;VALUE=DATE:20180430
DTSTAMP:20260423T202148
CREATED:20180221T072640Z
LAST-MODIFIED:20181214T125338Z
UID:8135-1524880800-1524967199@www.golazo.com
SUMMARY:Grinta! Challenge
DESCRIPTION:
URL:https://www.golazo.com/event/grinta-challenge-5/
LOCATION:Grinta! Challenge\, Tournai\, Belgium
CATEGORIES:Cycling
ATTACH;FMTTYPE=:
END:VEVENT
BEGIN:VEVENT
DTSTART;VALUE=DATE:20180429
DTEND;VALUE=DATE:20180501
DTSTAMP:20260423T202148
CREATED:20180221T073051Z
LAST-MODIFIED:20181214T125338Z
UID:8137-1524967200-1525053599@www.golazo.com
SUMMARY:Philippe Gilbert Classic
DESCRIPTION:
URL:https://www.golazo.com/event/philippe-gilbert-classic-2/
LOCATION:Philippe Gilbert Classic\, Aywaille\, Belgium
CATEGORIES:Cycling
ATTACH;FMTTYPE=:
END:VEVENT
END:VCALENDAR