BEGIN:VCALENDAR
VERSION:2.0
PRODID:-//Golazo - ECPv6.15.15//NONSGML v1.0//EN
CALSCALE:GREGORIAN
METHOD:PUBLISH
X-WR-CALNAME:Golazo
X-ORIGINAL-URL:https://www.golazo.com
X-WR-CALDESC:Events for Golazo
REFRESH-INTERVAL;VALUE=DURATION:PT1H
X-Robots-Tag:noindex
X-PUBLISHED-TTL:PT1H
BEGIN:VTIMEZONE
TZID:Europe/Brussels
BEGIN:DAYLIGHT
TZOFFSETFROM:+0100
TZOFFSETTO:+0200
TZNAME:CEST
DTSTART:20170326T010000
END:DAYLIGHT
BEGIN:STANDARD
TZOFFSETFROM:+0200
TZOFFSETTO:+0100
TZNAME:CET
DTSTART:20171029T010000
END:STANDARD
BEGIN:DAYLIGHT
TZOFFSETFROM:+0100
TZOFFSETTO:+0200
TZNAME:CEST
DTSTART:20180325T010000
END:DAYLIGHT
BEGIN:STANDARD
TZOFFSETFROM:+0200
TZOFFSETTO:+0100
TZNAME:CET
DTSTART:20181028T010000
END:STANDARD
BEGIN:DAYLIGHT
TZOFFSETFROM:+0100
TZOFFSETTO:+0200
TZNAME:CEST
DTSTART:20190331T010000
END:DAYLIGHT
BEGIN:STANDARD
TZOFFSETFROM:+0200
TZOFFSETTO:+0100
TZNAME:CET
DTSTART:20191027T010000
END:STANDARD
END:VTIMEZONE
BEGIN:VEVENT
DTSTART;VALUE=DATE:20180310
DTEND;VALUE=DATE:20180312
DTSTAMP:20260423T212644
CREATED:20180221T065250Z
LAST-MODIFIED:20181214T125339Z
UID:8094-1520643600-1520729999@www.golazo.com
SUMMARY:Omloop Van Vlaanderen
DESCRIPTION:
URL:https://www.golazo.com/event/omloop-van-vlaanderen-3/
LOCATION:Omloop van Vlaanderen\, Strandlaan 3\, Gent\, 9000\, Belgium
CATEGORIES:Cycling
ATTACH;FMTTYPE=:
END:VEVENT
BEGIN:VEVENT
DTSTART;VALUE=DATE:20180311
DTEND;VALUE=DATE:20180313
DTSTAMP:20260423T212644
CREATED:20180115T092037Z
LAST-MODIFIED:20181214T125340Z
UID:8011-1520730000-1520816399@www.golazo.com
SUMMARY:Nokere Koerse Cyclo
DESCRIPTION:
URL:https://www.golazo.com/event/nokere-koerse-cyclo/
LOCATION:Nokere Koerse Cyclo\, Waregemsestraat\, Nokere\, Belgium
CATEGORIES:Cycling
ATTACH;FMTTYPE=:
END:VEVENT
BEGIN:VEVENT
DTSTART;VALUE=DATE:20180318
DTEND;VALUE=DATE:20180320
DTSTAMP:20260423T212644
CREATED:20171107T121146Z
LAST-MODIFIED:20181214T125342Z
UID:7856-1521334800-1521421199@www.golazo.com
SUMMARY:Brabantse Trots
DESCRIPTION:
URL:https://www.golazo.com/event/brabantse-trots/
LOCATION:Brabantse Trots\, Netherlands
CATEGORIES:Cycling
END:VEVENT
BEGIN:VEVENT
DTSTART;TZID=Europe/Brussels:20180321T090000
DTEND;TZID=Europe/Brussels:20180322T180000
DTSTAMP:20260423T212644
CREATED:20180221T070431Z
LAST-MODIFIED:20181214T125339Z
UID:8100-1521622800-1521741600@www.golazo.com
SUMMARY:Driedaagse
DESCRIPTION:
URL:https://www.golazo.com/event/driedaagse/
LOCATION:Brugge – De Panne\, Mark Brugge\, Brugge\, 8000\, Belgium
CATEGORIES:Cycling
ATTACH;FMTTYPE=:
END:VEVENT
BEGIN:VEVENT
DTSTART;VALUE=DATE:20180325
DTEND;VALUE=DATE:20180327
DTSTAMP:20260423T212644
CREATED:20180115T113311Z
LAST-MODIFIED:20181214T125339Z
UID:8037-1521939600-1522029599@www.golazo.com
SUMMARY:Johan Museeuw Classic
DESCRIPTION:
URL:https://www.golazo.com/event/johan-museeuw-classic/
CATEGORIES:Cycling
ATTACH;FMTTYPE=:
END:VEVENT
BEGIN:VEVENT
DTSTART;VALUE=DATE:20180330
DTEND;VALUE=DATE:20180401
DTSTAMP:20260423T212644
CREATED:20180115T114057Z
LAST-MODIFIED:20181214T125339Z
UID:8044-1522375200-1522461599@www.golazo.com
SUMMARY:Tour of Flanders Business Academy
DESCRIPTION:
URL:https://www.golazo.com/event/tour-of-flanders-business-academy/
CATEGORIES:Cycling
ATTACH;FMTTYPE=:
END:VEVENT
BEGIN:VEVENT
DTSTART;VALUE=DATE:20180331
DTEND;VALUE=DATE:20180402
DTSTAMP:20260423T212644
CREATED:20171113T063646Z
LAST-MODIFIED:20181214T125341Z
UID:7915-1522461600-1522547999@www.golazo.com
SUMMARY:We Ride Flanders
DESCRIPTION:
URL:https://www.golazo.com/event/we-ride-flanders/
CATEGORIES:Cycling
ATTACH;FMTTYPE=:
END:VEVENT
END:VCALENDAR