BEGIN:VCALENDAR
VERSION:2.0
PRODID:-//Golazo - ECPv6.15.15//NONSGML v1.0//EN
CALSCALE:GREGORIAN
METHOD:PUBLISH
X-WR-CALNAME:Golazo
X-ORIGINAL-URL:https://www.golazo.com
X-WR-CALDESC:Events for Golazo
REFRESH-INTERVAL;VALUE=DURATION:PT1H
X-Robots-Tag:noindex
X-PUBLISHED-TTL:PT1H
BEGIN:VTIMEZONE
TZID:Europe/Brussels
BEGIN:DAYLIGHT
TZOFFSETFROM:+0100
TZOFFSETTO:+0200
TZNAME:CEST
DTSTART:20170326T010000
END:DAYLIGHT
BEGIN:STANDARD
TZOFFSETFROM:+0200
TZOFFSETTO:+0100
TZNAME:CET
DTSTART:20171029T010000
END:STANDARD
BEGIN:DAYLIGHT
TZOFFSETFROM:+0100
TZOFFSETTO:+0200
TZNAME:CEST
DTSTART:20180325T010000
END:DAYLIGHT
BEGIN:STANDARD
TZOFFSETFROM:+0200
TZOFFSETTO:+0100
TZNAME:CET
DTSTART:20181028T010000
END:STANDARD
BEGIN:DAYLIGHT
TZOFFSETFROM:+0100
TZOFFSETTO:+0200
TZNAME:CEST
DTSTART:20190331T010000
END:DAYLIGHT
BEGIN:STANDARD
TZOFFSETFROM:+0200
TZOFFSETTO:+0100
TZNAME:CET
DTSTART:20191027T010000
END:STANDARD
END:VTIMEZONE
BEGIN:VEVENT
DTSTART;VALUE=DATE:20180210
DTEND;VALUE=DATE:20180212
DTSTAMP:20260423T224935
CREATED:20170927T055854Z
LAST-MODIFIED:20181214T125344Z
UID:7766-1518224400-1518310799@www.golazo.com
SUMMARY:DVV Verzekeringen Trofee - Lille (Krawatencross)
DESCRIPTION:
URL:https://www.golazo.com/event/dvv-verzekeringen-trofee-lille-krawatencross/
LOCATION:Krawatencross\, Lille\, Belgium
CATEGORIES:Cycling,Sport
ATTACH;FMTTYPE=:
END:VEVENT
BEGIN:VEVENT
DTSTART;VALUE=DATE:20180221
DTEND;VALUE=DATE:20180223
DTSTAMP:20260423T224935
CREATED:20170927T060004Z
LAST-MODIFIED:20181214T125344Z
UID:7768-1519174800-1519261199@www.golazo.com
SUMMARY:Soudal Classic - Waregem (Cyclocross Masters)
DESCRIPTION:
URL:https://www.golazo.com/event/soudal-classic-waregem-cyclocross-masters/
LOCATION:Cyclocross Masters\, Waregem\, Belgium
CATEGORIES:Cycling,Sport
ATTACH;FMTTYPE=:
END:VEVENT
BEGIN:VEVENT
DTSTART;VALUE=DATE:20180225
DTEND;VALUE=DATE:20180227
DTSTAMP:20260423T224935
CREATED:20180115T090857Z
LAST-MODIFIED:20181214T125340Z
UID:8000-1519520400-1519606799@www.golazo.com
SUMMARY:DVV Trofee Slotgala
DESCRIPTION:
URL:https://www.golazo.com/event/dvv-trofee-slotgala/
LOCATION:DVV slotgala\, Antwerpen\, 2000\, Belgium
CATEGORIES:Cycling
ATTACH;FMTTYPE=:
END:VEVENT
BEGIN:VEVENT
DTSTART;VALUE=DATE:20180225
DTEND;VALUE=DATE:20180227
DTSTAMP:20260423T224935
CREATED:20180115T091420Z
LAST-MODIFIED:20181214T125340Z
UID:8004-1519520400-1519606799@www.golazo.com
SUMMARY:Omloop Het Nieuwsblad Cyclo
DESCRIPTION:
URL:https://www.golazo.com/event/omloop-het-nieuwsblad-cyclo/
LOCATION:’t Kuipke\, Citadelpark\, Gent\, 9000\, Belgium
CATEGORIES:Cycling
ATTACH;FMTTYPE=:
END:VEVENT
END:VCALENDAR