BEGIN:VCALENDAR
VERSION:2.0
PRODID:-//Golazo - ECPv6.15.15//NONSGML v1.0//EN
CALSCALE:GREGORIAN
METHOD:PUBLISH
X-ORIGINAL-URL:https://www.golazo.com
X-WR-CALDESC:Events for Golazo
REFRESH-INTERVAL;VALUE=DURATION:PT1H
X-Robots-Tag:noindex
X-PUBLISHED-TTL:PT1H
BEGIN:VTIMEZONE
TZID:Europe/Brussels
BEGIN:DAYLIGHT
TZOFFSETFROM:+0100
TZOFFSETTO:+0200
TZNAME:CEST
DTSTART:20170326T010000
END:DAYLIGHT
BEGIN:STANDARD
TZOFFSETFROM:+0200
TZOFFSETTO:+0100
TZNAME:CET
DTSTART:20171029T010000
END:STANDARD
BEGIN:DAYLIGHT
TZOFFSETFROM:+0100
TZOFFSETTO:+0200
TZNAME:CEST
DTSTART:20180325T010000
END:DAYLIGHT
BEGIN:STANDARD
TZOFFSETFROM:+0200
TZOFFSETTO:+0100
TZNAME:CET
DTSTART:20181028T010000
END:STANDARD
BEGIN:DAYLIGHT
TZOFFSETFROM:+0100
TZOFFSETTO:+0200
TZNAME:CEST
DTSTART:20190331T010000
END:DAYLIGHT
BEGIN:STANDARD
TZOFFSETFROM:+0200
TZOFFSETTO:+0100
TZNAME:CET
DTSTART:20191027T010000
END:STANDARD
END:VTIMEZONE
BEGIN:VEVENT
DTSTART;VALUE=DATE:20180101
DTEND;VALUE=DATE:20180103
DTSTAMP:20260423T235901
CREATED:20170927T055651Z
LAST-MODIFIED:20181214T125344Z
UID:7762-1514768400-1514854799@www.golazo.com
SUMMARY:DVV Verzekeringen Trofee - Baal (GP Sven Nys)
DESCRIPTION:
URL:https://www.golazo.com/event/dvv-verzekeringen-trofee-baal-gp-sven-nys/
LOCATION:GP Sven Nys\, Baal\, Belgium
CATEGORIES:Cycling,Sport
ATTACH;FMTTYPE=:
END:VEVENT
BEGIN:VEVENT
DTSTART;VALUE=DATE:20180107
DTEND;VALUE=DATE:20180109
DTSTAMP:20260423T235901
CREATED:20170927T055752Z
LAST-MODIFIED:20181214T125344Z
UID:7764-1515286800-1515373199@www.golazo.com
SUMMARY:Soudal Classic - Leuven
DESCRIPTION:
URL:https://www.golazo.com/event/soudal-classic-leuven/
LOCATION:Cyclocross Leuven\, Leuven\, Belgium
CATEGORIES:Cycling,Sport
ATTACH;FMTTYPE=:
END:VEVENT
END:VCALENDAR