BEGIN:VCALENDAR
VERSION:2.0
PRODID:-//Golazo - ECPv6.15.15//NONSGML v1.0//EN
CALSCALE:GREGORIAN
METHOD:PUBLISH
X-ORIGINAL-URL:https://www.golazo.com
X-WR-CALDESC:Events for Golazo
REFRESH-INTERVAL;VALUE=DURATION:PT1H
X-Robots-Tag:noindex
X-PUBLISHED-TTL:PT1H
BEGIN:VTIMEZONE
TZID:Europe/Brussels
BEGIN:DAYLIGHT
TZOFFSETFROM:+0100
TZOFFSETTO:+0200
TZNAME:CEST
DTSTART:20160327T010000
END:DAYLIGHT
BEGIN:STANDARD
TZOFFSETFROM:+0200
TZOFFSETTO:+0100
TZNAME:CET
DTSTART:20161030T010000
END:STANDARD
BEGIN:DAYLIGHT
TZOFFSETFROM:+0100
TZOFFSETTO:+0200
TZNAME:CEST
DTSTART:20170326T010000
END:DAYLIGHT
BEGIN:STANDARD
TZOFFSETFROM:+0200
TZOFFSETTO:+0100
TZNAME:CET
DTSTART:20171029T010000
END:STANDARD
BEGIN:DAYLIGHT
TZOFFSETFROM:+0100
TZOFFSETTO:+0200
TZNAME:CEST
DTSTART:20180325T010000
END:DAYLIGHT
BEGIN:STANDARD
TZOFFSETFROM:+0200
TZOFFSETTO:+0100
TZNAME:CET
DTSTART:20181028T010000
END:STANDARD
END:VTIMEZONE
BEGIN:VEVENT
DTSTART;VALUE=DATE:20170806
DTEND;VALUE=DATE:20170808
DTSTAMP:20260425T161937
CREATED:20170127T060505Z
LAST-MODIFIED:20181214T125352Z
UID:6528-1501984800-1502071199@www.golazo.com
SUMMARY:Cyclingtour\, Fietsdodentocht
DESCRIPTION:
URL:https://www.golazo.com/event/cyclingtour-fietsdodentocht/
LOCATION:Fietsdodentocht\, KSV Bornem\, Breevendreef 56\, Bornem\, 2880\, Belgium
CATEGORIES:Cycling
ATTACH;FMTTYPE=:
END:VEVENT
BEGIN:VEVENT
DTSTART;TZID=Europe/Brussels:20170806T100000
DTEND;TZID=Europe/Brussels:20170813T190000
DTSTAMP:20260425T161937
CREATED:20170127T060909Z
LAST-MODIFIED:20181214T125352Z
UID:6532-1502013600-1502650800@www.golazo.com
SUMMARY:BinckBank Tour - UCI World Tour
DESCRIPTION:
URL:https://www.golazo.com/event/eneco-tour-5/
LOCATION:BinckBank Tour\, Belgium
CATEGORIES:Cycling
END:VEVENT
BEGIN:VEVENT
DTSTART;VALUE=DATE:20170812
DTEND;VALUE=DATE:20170814
DTSTAMP:20260425T161937
CREATED:20170127T060643Z
LAST-MODIFIED:20181214T125352Z
UID:6530-1502503200-1502589599@www.golazo.com
SUMMARY:Cycling Tour\, Rochefort Classic
DESCRIPTION:
URL:https://www.golazo.com/event/cycling-tour-rochefort-classic/
LOCATION:Rochefort Classic\, Belgium
CATEGORIES:Cycling
ATTACH;FMTTYPE=:
END:VEVENT
BEGIN:VEVENT
DTSTART;VALUE=DATE:20170819
DTEND;VALUE=DATE:20170821
DTSTAMP:20260425T161937
CREATED:20170127T061014Z
LAST-MODIFIED:20181214T125352Z
UID:6534-1503108000-1503194399@www.golazo.com
SUMMARY:Cycling Tour\, Géants des Ardennes
DESCRIPTION:
URL:https://www.golazo.com/event/cycling-tour-geants-des-ardennes/
LOCATION:Géants des Ardennes\, Liège\, Belgium
CATEGORIES:Cycling
ATTACH;FMTTYPE=:
END:VEVENT
BEGIN:VEVENT
DTSTART;VALUE=DATE:20170826
DTEND;VALUE=DATE:20170828
DTSTAMP:20260425T161937
CREATED:20170720T075208Z
LAST-MODIFIED:20181214T125345Z
UID:7544-1503712800-1503799199@www.golazo.com
SUMMARY:Eddy Merckx Classic
DESCRIPTION:
URL:https://www.golazo.com/event/eddy-merckx-classic/
CATEGORIES:Cycling
END:VEVENT
END:VCALENDAR