BEGIN:VCALENDAR
VERSION:2.0
PRODID:-//Golazo - ECPv6.15.15//NONSGML v1.0//EN
CALSCALE:GREGORIAN
METHOD:PUBLISH
X-ORIGINAL-URL:https://www.golazo.com
X-WR-CALDESC:Events for Golazo
REFRESH-INTERVAL;VALUE=DURATION:PT1H
X-Robots-Tag:noindex
X-PUBLISHED-TTL:PT1H
BEGIN:VTIMEZONE
TZID:Europe/Brussels
BEGIN:DAYLIGHT
TZOFFSETFROM:+0100
TZOFFSETTO:+0200
TZNAME:CEST
DTSTART:20160327T010000
END:DAYLIGHT
BEGIN:STANDARD
TZOFFSETFROM:+0200
TZOFFSETTO:+0100
TZNAME:CET
DTSTART:20161030T010000
END:STANDARD
BEGIN:DAYLIGHT
TZOFFSETFROM:+0100
TZOFFSETTO:+0200
TZNAME:CEST
DTSTART:20170326T010000
END:DAYLIGHT
BEGIN:STANDARD
TZOFFSETFROM:+0200
TZOFFSETTO:+0100
TZNAME:CET
DTSTART:20171029T010000
END:STANDARD
BEGIN:DAYLIGHT
TZOFFSETFROM:+0100
TZOFFSETTO:+0200
TZNAME:CEST
DTSTART:20180325T010000
END:DAYLIGHT
BEGIN:STANDARD
TZOFFSETFROM:+0200
TZOFFSETTO:+0100
TZNAME:CET
DTSTART:20181028T010000
END:STANDARD
END:VTIMEZONE
BEGIN:VEVENT
DTSTART;VALUE=DATE:20170726
DTEND;VALUE=DATE:20170728
DTSTAMP:20260425T175240
CREATED:20170127T060057Z
LAST-MODIFIED:20181214T125352Z
UID:6521-1501034400-1501120799@www.golazo.com
SUMMARY:Na-Tour Criterium
DESCRIPTION:
URL:https://www.golazo.com/event/na-tour-criterium/
LOCATION:Na-Tourcriterium Sint-Niklaas\, Sint-Niklaas\, Belgium
CATEGORIES:Cycling
ATTACH;FMTTYPE=:
END:VEVENT
BEGIN:VEVENT
DTSTART;VALUE=DATE:20170730
DTEND;VALUE=DATE:20170801
DTSTAMP:20260425T175240
CREATED:20170127T060402Z
LAST-MODIFIED:20181214T125352Z
UID:6523-1501380000-1501466399@www.golazo.com
SUMMARY:Classico Boretti
DESCRIPTION:
URL:https://www.golazo.com/event/classico-boretti/
LOCATION:Classico Boretti\, Grote Markt\, Herentals\, 2200\, Belgium
CATEGORIES:Cycling
ATTACH;FMTTYPE=:
END:VEVENT
END:VCALENDAR