BEGIN:VCALENDAR
VERSION:2.0
PRODID:-//Golazo - ECPv6.15.15//NONSGML v1.0//EN
CALSCALE:GREGORIAN
METHOD:PUBLISH
X-ORIGINAL-URL:https://www.golazo.com
X-WR-CALDESC:Events for Golazo
REFRESH-INTERVAL;VALUE=DURATION:PT1H
X-Robots-Tag:noindex
X-PUBLISHED-TTL:PT1H
BEGIN:VTIMEZONE
TZID:Europe/Brussels
BEGIN:DAYLIGHT
TZOFFSETFROM:+0100
TZOFFSETTO:+0200
TZNAME:CEST
DTSTART:20160327T010000
END:DAYLIGHT
BEGIN:STANDARD
TZOFFSETFROM:+0200
TZOFFSETTO:+0100
TZNAME:CET
DTSTART:20161030T010000
END:STANDARD
BEGIN:DAYLIGHT
TZOFFSETFROM:+0100
TZOFFSETTO:+0200
TZNAME:CEST
DTSTART:20170326T010000
END:DAYLIGHT
BEGIN:STANDARD
TZOFFSETFROM:+0200
TZOFFSETTO:+0100
TZNAME:CET
DTSTART:20171029T010000
END:STANDARD
BEGIN:DAYLIGHT
TZOFFSETFROM:+0100
TZOFFSETTO:+0200
TZNAME:CEST
DTSTART:20180325T010000
END:DAYLIGHT
BEGIN:STANDARD
TZOFFSETFROM:+0200
TZOFFSETTO:+0100
TZNAME:CET
DTSTART:20181028T010000
END:STANDARD
END:VTIMEZONE
BEGIN:VEVENT
DTSTART;VALUE=DATE:20170429
DTEND;VALUE=DATE:20170502
DTSTAMP:20260425T203306
CREATED:20170126T073840Z
LAST-MODIFIED:20181214T125355Z
UID:6414-1493431200-1493603999@www.golazo.com
SUMMARY:Roc d' Ardenne
DESCRIPTION:
URL:https://www.golazo.com/event/roc-d-ardenne/
LOCATION:Roc d’Ardenne\, Houffalize\, Belgium
CATEGORIES:Cycling
END:VEVENT
BEGIN:VEVENT
DTSTART;VALUE=DATE:20170429
DTEND;VALUE=DATE:20170502
DTSTAMP:20260425T203306
CREATED:20170126T123412Z
LAST-MODIFIED:20181214T125353Z
UID:6508-1493431200-1493603999@www.golazo.com
SUMMARY:Tour of Ayrshire
DESCRIPTION:
URL:https://www.golazo.com/event/tour-of-ayrshire/
LOCATION:Tour of Ayrshire\, Kilmarnock\, United Kingdom
CATEGORIES:Cycling
ATTACH;FMTTYPE=:
END:VEVENT
BEGIN:VEVENT
DTSTART;VALUE=DATE:20170430
DTEND;VALUE=DATE:20170502
DTSTAMP:20260425T203306
CREATED:20170126T074207Z
LAST-MODIFIED:20181214T125355Z
UID:6417-1493517600-1493603999@www.golazo.com
SUMMARY:Philippe Gilbert Classic
DESCRIPTION:
URL:https://www.golazo.com/event/philippe-gilbert-classic/
LOCATION:Philippe Gilbert Classic\, Aywaille\, Belgium
CATEGORIES:Cycling
END:VEVENT
BEGIN:VEVENT
DTSTART;VALUE=DATE:20170506
DTEND;VALUE=DATE:20170508
DTSTAMP:20260425T203306
CREATED:20170127T124852Z
LAST-MODIFIED:20181214T125349Z
UID:6644-1494036000-1494122399@www.golazo.com
SUMMARY:Classico Boretti NL
DESCRIPTION:
URL:https://www.golazo.com/event/classico-boretti-nl/
CATEGORIES:Cycling
END:VEVENT
BEGIN:VEVENT
DTSTART;VALUE=DATE:20170513
DTEND;VALUE=DATE:20170515
DTSTAMP:20260425T203306
CREATED:20170126T074739Z
LAST-MODIFIED:20181214T125355Z
UID:6429-1494640800-1494727199@www.golazo.com
SUMMARY:Greg Van Avermaet Classic
DESCRIPTION:
URL:https://www.golazo.com/event/greg-van-avermaet-classic/
CATEGORIES:Cycling
ATTACH;FMTTYPE=:
END:VEVENT
BEGIN:VEVENT
DTSTART;VALUE=DATE:20170520
DTEND;VALUE=DATE:20170522
DTSTAMP:20260425T203306
CREATED:20170126T074923Z
LAST-MODIFIED:20181214T125355Z
UID:6435-1495245600-1495331999@www.golazo.com
SUMMARY:La Chouffe Classic
DESCRIPTION:
URL:https://www.golazo.com/event/la-chouffe-classic-5/
LOCATION:La Chouffe Classic\, Houffalize\, Belgium
CATEGORIES:Cycling
END:VEVENT
BEGIN:VEVENT
DTSTART;VALUE=DATE:20170520
DTEND;VALUE=DATE:20170522
DTSTAMP:20260425T203306
CREATED:20170127T130337Z
LAST-MODIFIED:20181214T125348Z
UID:6667-1495245600-1495331999@www.golazo.com
SUMMARY:Challenge Vercors
DESCRIPTION:
URL:https://www.golazo.com/event/challenge-vercors-2/
LOCATION:Challenge Vercors\, M\, France
CATEGORIES:Cycling
ATTACH;FMTTYPE=:
END:VEVENT
BEGIN:VEVENT
DTSTART;VALUE=DATE:20170527
DTEND;VALUE=DATE:20170529
DTSTAMP:20260425T203306
CREATED:20170126T075311Z
LAST-MODIFIED:20181214T125354Z
UID:6443-1495850400-1495936799@www.golazo.com
SUMMARY:Flèche de Wallonie
DESCRIPTION:
URL:https://www.golazo.com/event/fleche-de-wallonie-4/
LOCATION:Flèche de Wallonie\, Spa\, Belgium
CATEGORIES:Cycling
END:VEVENT
END:VCALENDAR