BEGIN:VCALENDAR
VERSION:2.0
PRODID:-//Golazo - ECPv6.15.15//NONSGML v1.0//EN
CALSCALE:GREGORIAN
METHOD:PUBLISH
X-WR-CALNAME:Golazo
X-ORIGINAL-URL:https://www.golazo.com
X-WR-CALDESC:Events for Golazo
REFRESH-INTERVAL;VALUE=DURATION:PT1H
X-Robots-Tag:noindex
X-PUBLISHED-TTL:PT1H
BEGIN:VTIMEZONE
TZID:Europe/Brussels
BEGIN:DAYLIGHT
TZOFFSETFROM:+0100
TZOFFSETTO:+0200
TZNAME:CEST
DTSTART:20160327T010000
END:DAYLIGHT
BEGIN:STANDARD
TZOFFSETFROM:+0200
TZOFFSETTO:+0100
TZNAME:CET
DTSTART:20161030T010000
END:STANDARD
BEGIN:DAYLIGHT
TZOFFSETFROM:+0100
TZOFFSETTO:+0200
TZNAME:CEST
DTSTART:20170326T010000
END:DAYLIGHT
BEGIN:STANDARD
TZOFFSETFROM:+0200
TZOFFSETTO:+0100
TZNAME:CET
DTSTART:20171029T010000
END:STANDARD
BEGIN:DAYLIGHT
TZOFFSETFROM:+0100
TZOFFSETTO:+0200
TZNAME:CEST
DTSTART:20180325T010000
END:DAYLIGHT
BEGIN:STANDARD
TZOFFSETFROM:+0200
TZOFFSETTO:+0100
TZNAME:CET
DTSTART:20181028T010000
END:STANDARD
END:VTIMEZONE
BEGIN:VEVENT
DTSTART;VALUE=DATE:20170401
DTEND;VALUE=DATE:20170403
DTSTAMP:20260425T221207
CREATED:20170126T072620Z
LAST-MODIFIED:20181214T125356Z
UID:6391-1491012000-1491098399@www.golazo.com
SUMMARY:We Ride Flanders Cyclo
DESCRIPTION:
URL:https://www.golazo.com/event/we-ride-flanders-cyclo/
CATEGORIES:Cycling
END:VEVENT
BEGIN:VEVENT
DTSTART;VALUE=DATE:20170408
DTEND;VALUE=DATE:20170410
DTSTAMP:20260425T221207
CREATED:20170126T073232Z
LAST-MODIFIED:20181214T125356Z
UID:6401-1491616800-1491703199@www.golazo.com
SUMMARY:Paris-Roubaix Challenge
DESCRIPTION:
URL:https://www.golazo.com/event/paris-roubaix-challenge-4/
LOCATION:Paris-Roubaix Challenge\, Busigny - Roubaix\, France
CATEGORIES:Cycling
END:VEVENT
BEGIN:VEVENT
DTSTART;VALUE=DATE:20170409
DTEND;VALUE=DATE:20170411
DTSTAMP:20260425T221207
CREATED:20170126T122814Z
LAST-MODIFIED:20181214T125353Z
UID:6498-1491703200-1491789599@www.golazo.com
SUMMARY:GF Gassin Golfe de Saint-Tropez
DESCRIPTION:
URL:https://www.golazo.com/event/gf-gassin-golfe-de-saint-tropez/
LOCATION:Granfondo Golfe de Saint Tropez\, Saint-Tropez\, France
CATEGORIES:Cycling
ATTACH;FMTTYPE=:
END:VEVENT
BEGIN:VEVENT
DTSTART;VALUE=DATE:20170415
DTEND;VALUE=DATE:20170417
DTSTAMP:20260425T221207
CREATED:20170126T073529Z
LAST-MODIFIED:20181214T125356Z
UID:6406-1492221600-1492307999@www.golazo.com
SUMMARY:Cycling Tour\, Peter Van Petegem Classic
DESCRIPTION:
URL:https://www.golazo.com/event/peter-van-petegem-classic-4/
LOCATION:Ontmoetingscentrum de Lier\, Nieuwstraat 21\,\, Lierde\, 9570\, Belgium
CATEGORIES:Cycling
END:VEVENT
BEGIN:VEVENT
DTSTART;VALUE=DATE:20170422
DTEND;VALUE=DATE:20170424
DTSTAMP:20260425T221207
CREATED:20170126T073626Z
LAST-MODIFIED:20181214T125355Z
UID:6408-1492826400-1492912799@www.golazo.com
SUMMARY:Liège-Bastogne-Liège Challenge
DESCRIPTION:
URL:https://www.golazo.com/event/liege-bastogne-liege-challenge-2/
LOCATION:LBL Challenge\, Luik\, Belgium
CATEGORIES:Cycling
END:VEVENT
BEGIN:VEVENT
DTSTART;VALUE=DATE:20170422
DTEND;VALUE=DATE:20170424
DTSTAMP:20260425T221207
CREATED:20170126T122952Z
LAST-MODIFIED:20181214T125353Z
UID:6501-1492826400-1492912799@www.golazo.com
SUMMARY:La Bourgogne Cyclo
DESCRIPTION:
URL:https://www.golazo.com/event/la-bourgogne-cyclo-2/
LOCATION:La Bourgogne Cyclo\, Cr\, France
CATEGORIES:Cycling
ATTACH;FMTTYPE=:
END:VEVENT
BEGIN:VEVENT
DTSTART;VALUE=DATE:20170423
DTEND;VALUE=DATE:20170425
DTSTAMP:20260425T221207
CREATED:20170126T123206Z
LAST-MODIFIED:20181214T125353Z
UID:6504-1492912800-1492999199@www.golazo.com
SUMMARY:Gran Fondo Rosa - Arnhem
DESCRIPTION:
URL:https://www.golazo.com/event/gran-fondo-rosa-arnhem/
LOCATION:Gran Fondo Rosa\, Arnhem\, Netherlands
CATEGORIES:Cycling
END:VEVENT
BEGIN:VEVENT
DTSTART;VALUE=DATE:20170429
DTEND;VALUE=DATE:20170502
DTSTAMP:20260425T221207
CREATED:20170126T073840Z
LAST-MODIFIED:20181214T125355Z
UID:6414-1493431200-1493603999@www.golazo.com
SUMMARY:Roc d' Ardenne
DESCRIPTION:
URL:https://www.golazo.com/event/roc-d-ardenne/
LOCATION:Roc d’Ardenne\, Houffalize\, Belgium
CATEGORIES:Cycling
END:VEVENT
BEGIN:VEVENT
DTSTART;VALUE=DATE:20170429
DTEND;VALUE=DATE:20170502
DTSTAMP:20260425T221207
CREATED:20170126T123412Z
LAST-MODIFIED:20181214T125353Z
UID:6508-1493431200-1493603999@www.golazo.com
SUMMARY:Tour of Ayrshire
DESCRIPTION:
URL:https://www.golazo.com/event/tour-of-ayrshire/
LOCATION:Tour of Ayrshire\, Kilmarnock\, United Kingdom
CATEGORIES:Cycling
ATTACH;FMTTYPE=:
END:VEVENT
BEGIN:VEVENT
DTSTART;VALUE=DATE:20170430
DTEND;VALUE=DATE:20170502
DTSTAMP:20260425T221207
CREATED:20170126T074207Z
LAST-MODIFIED:20181214T125355Z
UID:6417-1493517600-1493603999@www.golazo.com
SUMMARY:Philippe Gilbert Classic
DESCRIPTION:
URL:https://www.golazo.com/event/philippe-gilbert-classic/
LOCATION:Philippe Gilbert Classic\, Aywaille\, Belgium
CATEGORIES:Cycling
END:VEVENT
END:VCALENDAR