BEGIN:VCALENDAR
VERSION:2.0
PRODID:-//Golazo - ECPv6.15.15//NONSGML v1.0//EN
CALSCALE:GREGORIAN
METHOD:PUBLISH
X-ORIGINAL-URL:https://www.golazo.com
X-WR-CALDESC:Events for Golazo
REFRESH-INTERVAL;VALUE=DURATION:PT1H
X-Robots-Tag:noindex
X-PUBLISHED-TTL:PT1H
BEGIN:VTIMEZONE
TZID:Europe/Brussels
BEGIN:DAYLIGHT
TZOFFSETFROM:+0100
TZOFFSETTO:+0200
TZNAME:CEST
DTSTART:20160327T010000
END:DAYLIGHT
BEGIN:STANDARD
TZOFFSETFROM:+0200
TZOFFSETTO:+0100
TZNAME:CET
DTSTART:20161030T010000
END:STANDARD
BEGIN:DAYLIGHT
TZOFFSETFROM:+0100
TZOFFSETTO:+0200
TZNAME:CEST
DTSTART:20170326T010000
END:DAYLIGHT
BEGIN:STANDARD
TZOFFSETFROM:+0200
TZOFFSETTO:+0100
TZNAME:CET
DTSTART:20171029T010000
END:STANDARD
BEGIN:DAYLIGHT
TZOFFSETFROM:+0100
TZOFFSETTO:+0200
TZNAME:CEST
DTSTART:20180325T010000
END:DAYLIGHT
BEGIN:STANDARD
TZOFFSETFROM:+0200
TZOFFSETTO:+0100
TZNAME:CET
DTSTART:20181028T010000
END:STANDARD
END:VTIMEZONE
BEGIN:VEVENT
DTSTART;VALUE=DATE:20170218
DTEND;VALUE=DATE:20170220
DTSTAMP:20260426T010036
CREATED:20161017T090658Z
LAST-MODIFIED:20181214T125358Z
UID:5995-1487379600-1487465999@www.golazo.com
SUMMARY:Soudal Classics\, Cyclocross Leuven
DESCRIPTION:
URL:https://www.golazo.com/event/soudal-classics-cyclocross-leuven/
LOCATION:Cyclocross Leuven\, Leuven\, Belgium
CATEGORIES:Cycling
ATTACH;FMTTYPE=:
END:VEVENT
BEGIN:VEVENT
DTSTART;VALUE=DATE:20170219
DTEND;VALUE=DATE:20170221
DTSTAMP:20260426T010036
CREATED:20161017T090742Z
LAST-MODIFIED:20181214T125358Z
UID:5997-1487466000-1487552399@www.golazo.com
SUMMARY:DVV Verzekeringen Trofee - Slothappening
DESCRIPTION:
URL:https://www.golazo.com/event/dvv-verzekeringen-trofee-slothappening/
LOCATION:Slothappening DVV Verzekeringen Trofee\, Belgium
CATEGORIES:Cycling
ATTACH;FMTTYPE=:
END:VEVENT
BEGIN:VEVENT
DTSTART;VALUE=DATE:20170222
DTEND;VALUE=DATE:20170224
DTSTAMP:20260426T010036
CREATED:20161017T090857Z
LAST-MODIFIED:20181214T125357Z
UID:5999-1487725200-1487811599@www.golazo.com
SUMMARY:Soudal Classics\, Cycloccross Masters
DESCRIPTION:
URL:https://www.golazo.com/event/soudal-classics-cycloccross-masters/
LOCATION:Markt Waregem\, Markt\, Waregem\, 8790\, Belgium
CATEGORIES:Cycling
ATTACH;FMTTYPE=:
END:VEVENT
END:VCALENDAR